BEGIN:VCALENDAR
VERSION:2.0
PRODID:-//WDO - ECPv6.15.14//NONSGML v1.0//EN
CALSCALE:GREGORIAN
METHOD:PUBLISH
X-ORIGINAL-URL:https://wdo.org
X-WR-CALDESC:Events for WDO
REFRESH-INTERVAL;VALUE=DURATION:PT1H
X-Robots-Tag:noindex
X-PUBLISHED-TTL:PT1H
BEGIN:VTIMEZONE
TZID:America/New_York
BEGIN:DAYLIGHT
TZOFFSETFROM:-0500
TZOFFSETTO:-0400
TZNAME:EDT
DTSTART:20250309T070000
END:DAYLIGHT
BEGIN:STANDARD
TZOFFSETFROM:-0400
TZOFFSETTO:-0500
TZNAME:EST
DTSTART:20251102T060000
END:STANDARD
BEGIN:DAYLIGHT
TZOFFSETFROM:-0500
TZOFFSETTO:-0400
TZNAME:EDT
DTSTART:20260308T070000
END:DAYLIGHT
BEGIN:STANDARD
TZOFFSETFROM:-0400
TZOFFSETTO:-0500
TZNAME:EST
DTSTART:20261101T060000
END:STANDARD
BEGIN:DAYLIGHT
TZOFFSETFROM:-0500
TZOFFSETTO:-0400
TZNAME:EDT
DTSTART:20270314T070000
END:DAYLIGHT
BEGIN:STANDARD
TZOFFSETFROM:-0400
TZOFFSETTO:-0500
TZNAME:EST
DTSTART:20271107T060000
END:STANDARD
END:VTIMEZONE
BEGIN:VTIMEZONE
TZID:Europe/Berlin
BEGIN:DAYLIGHT
TZOFFSETFROM:+0100
TZOFFSETTO:+0200
TZNAME:CEST
DTSTART:20250330T010000
END:DAYLIGHT
BEGIN:STANDARD
TZOFFSETFROM:+0200
TZOFFSETTO:+0100
TZNAME:CET
DTSTART:20251026T010000
END:STANDARD
BEGIN:DAYLIGHT
TZOFFSETFROM:+0100
TZOFFSETTO:+0200
TZNAME:CEST
DTSTART:20260329T010000
END:DAYLIGHT
BEGIN:STANDARD
TZOFFSETFROM:+0200
TZOFFSETTO:+0100
TZNAME:CET
DTSTART:20261025T010000
END:STANDARD
BEGIN:DAYLIGHT
TZOFFSETFROM:+0100
TZOFFSETTO:+0200
TZNAME:CEST
DTSTART:20270328T010000
END:DAYLIGHT
BEGIN:STANDARD
TZOFFSETFROM:+0200
TZOFFSETTO:+0100
TZNAME:CET
DTSTART:20271031T010000
END:STANDARD
END:VTIMEZONE
BEGIN:VEVENT
DTSTART;VALUE=DATE:20260512
DTEND;VALUE=DATE:20260513
DTSTAMP:20260420T173411
CREATED:20251126T143935Z
LAST-MODIFIED:20251126T143935Z
UID:10001034-1778544000-1778630399@wdo.org
SUMMARY:German Innovation Awards – Awards Ceremony
DESCRIPTION:Innovation shapes the future – the German Innovation Awards put it in the spotlight. The internationally recognised prize honours innovations that drive real progress with bold ideas\, smart solutions\, and lasting impact. Presented by the German Design Council\, the awards stand for pioneering developments with substance – socially relevant\, economically powerful. \nLearn more: https://www.german-innovation-award.de/en/ \nWDO Member: German Design Council
URL:https://wdo.org/event/german-innovation-awards-awards-ceremony/
LOCATION:Berlin\, Germany
CATEGORIES:Award ceremony
ATTACH;FMTTYPE=image/png:https://wdo.org/wp-content/uploads/GIA-Logo-1200x1200-1-e1764167717605.png
END:VEVENT
BEGIN:VEVENT
DTSTART;VALUE=DATE:20260625
DTEND;VALUE=DATE:20260626
DTSTAMP:20260420T173411
CREATED:20251126T144408Z
LAST-MODIFIED:20251126T144408Z
UID:10001036-1782345600-1782431999@wdo.org
SUMMARY:German Brand Awards – Awards Ceremony
DESCRIPTION:The award that makes brand success visible. \nThe German Brand Awards are one of the leading brand competitions in the German-speaking world. Since 2016\, they have honoured excellence in holistic brand management – strategic\, creative and impactful. Winning means showing what makes a brand truly strong today: clarity\, relevance and team spirit. \nLearn more: https://www.german-brand-award.com/en/ \nWDO Member: German Design Council
URL:https://wdo.org/event/german-brand-awards-awards-ceremony/
LOCATION:Frankfurt\, Germany
CATEGORIES:Award ceremony
ATTACH;FMTTYPE=image/jpeg:https://wdo.org/wp-content/uploads/Google_Ads_Logo_1200x1200_Version_A-e1764168119877.jpg
END:VEVENT
END:VCALENDAR