BEGIN:VCALENDAR
VERSION:2.0
PRODID:-//WDO - ECPv6.15.14//NONSGML v1.0//EN
CALSCALE:GREGORIAN
METHOD:PUBLISH
X-ORIGINAL-URL:https://wdo.org
X-WR-CALDESC:Events for WDO
REFRESH-INTERVAL;VALUE=DURATION:PT1H
X-Robots-Tag:noindex
X-PUBLISHED-TTL:PT1H
BEGIN:VTIMEZONE
TZID:America/New_York
BEGIN:DAYLIGHT
TZOFFSETFROM:-0500
TZOFFSETTO:-0400
TZNAME:EDT
DTSTART:20250309T070000
END:DAYLIGHT
BEGIN:STANDARD
TZOFFSETFROM:-0400
TZOFFSETTO:-0500
TZNAME:EST
DTSTART:20251102T060000
END:STANDARD
BEGIN:DAYLIGHT
TZOFFSETFROM:-0500
TZOFFSETTO:-0400
TZNAME:EDT
DTSTART:20260308T070000
END:DAYLIGHT
BEGIN:STANDARD
TZOFFSETFROM:-0400
TZOFFSETTO:-0500
TZNAME:EST
DTSTART:20261101T060000
END:STANDARD
BEGIN:DAYLIGHT
TZOFFSETFROM:-0500
TZOFFSETTO:-0400
TZNAME:EDT
DTSTART:20270314T070000
END:DAYLIGHT
BEGIN:STANDARD
TZOFFSETFROM:-0400
TZOFFSETTO:-0500
TZNAME:EST
DTSTART:20271107T060000
END:STANDARD
END:VTIMEZONE
BEGIN:VEVENT
DTSTART;TZID=America/New_York:20260211T080000
DTEND;TZID=America/New_York:20260211T090000
DTSTAMP:20260420T154628
CREATED:20260203T145551Z
LAST-MODIFIED:20260211T205630Z
UID:10001072-1770796800-1770800400@wdo.org
SUMMARY:WDO Interdesign Siargao Island 2026 Webinar
DESCRIPTION:Join this 60-minute virtual information session hosted by WDO and the Design Center of the Philippines to learn more about Interdesign Siargao Island 2026\, including the participant application process\, programme theme and key objectives. \nGuided by the theme Design Innovation and Resiliency for the Tropics\, Interdesign Siargao Island 2026 is an immersive\, field-based residency that will take place from 13–24 July 2026. Participant applications are now open globally until 31 March 2026. \nRegister: https://us02web.zoom.us/webinar/register/WN__ivt-1J_TrukqYIAZTrSTg#/registration \nWDO Member: Design Center of the Philippines
URL:https://wdo.org/event/webinar-interdesign-siargao-island-2026/
LOCATION:Online
CATEGORIES:Interdesign,WDO Member Webinar
ATTACH;FMTTYPE=image/png:https://wdo.org/wp-content/uploads/interdesign2026_webinar-e1770843382100.png
END:VEVENT
BEGIN:VEVENT
DTSTART;VALUE=DATE:20260203
DTEND;VALUE=DATE:20260401
DTSTAMP:20260420T154628
CREATED:20260203T135441Z
LAST-MODIFIED:20260204T134153Z
UID:10001070-1770076800-1775001599@wdo.org
SUMMARY:Interdesign Siargao Island 2026 - Call for participants
DESCRIPTION:WDO’s Interdesign programme returns from 13-24 July 2026 with a two-week international workshop set on Siargao Island in the Philippines. Hosted in partnership with the Design Center of the Philippines and De La Salle-College of Saint Benilde\, this edition of Interdesign will convene designers\, researchers and interdisciplinary practitioners to engage with the island’s unique social\, environmental and cultural landscape through the lens of Design Innovation and Resiliency for the Tropics. \nThe global call for participants is open until 31 March 2026. \nLearn more and apply:  https://wdo.org/programmes/interdesign/siargaoisland2026/ \nWDO Members: Design Center of the Philippines and De La Salle-College of Saint Benilde
URL:https://wdo.org/event/interdesign_siargaoisland2026-callforparticipants/
LOCATION:Siargao Island\, Philippines
CATEGORIES:Interdesign
ATTACH;FMTTYPE=image/png:https://wdo.org/wp-content/uploads/interdesign2026_event.png
END:VEVENT
END:VCALENDAR