BEGIN:VCALENDAR
VERSION:2.0
PRODID:-//WDO - ECPv6.15.14//NONSGML v1.0//EN
CALSCALE:GREGORIAN
METHOD:PUBLISH
X-ORIGINAL-URL:https://wdo.org
X-WR-CALDESC:Events for WDO
REFRESH-INTERVAL;VALUE=DURATION:PT1H
X-Robots-Tag:noindex
X-PUBLISHED-TTL:PT1H
BEGIN:VTIMEZONE
TZID:Asia/Hong_Kong
BEGIN:STANDARD
TZOFFSETFROM:+0800
TZOFFSETTO:+0800
TZNAME:HKT
DTSTART:20240101T000000
END:STANDARD
END:VTIMEZONE
BEGIN:VTIMEZONE
TZID:America/New_York
BEGIN:DAYLIGHT
TZOFFSETFROM:-0500
TZOFFSETTO:-0400
TZNAME:EDT
DTSTART:20210314T070000
END:DAYLIGHT
BEGIN:STANDARD
TZOFFSETFROM:-0400
TZOFFSETTO:-0500
TZNAME:EST
DTSTART:20211107T060000
END:STANDARD
BEGIN:DAYLIGHT
TZOFFSETFROM:-0500
TZOFFSETTO:-0400
TZNAME:EDT
DTSTART:20220313T070000
END:DAYLIGHT
BEGIN:STANDARD
TZOFFSETFROM:-0400
TZOFFSETTO:-0500
TZNAME:EST
DTSTART:20221106T060000
END:STANDARD
BEGIN:DAYLIGHT
TZOFFSETFROM:-0500
TZOFFSETTO:-0400
TZNAME:EDT
DTSTART:20230312T070000
END:DAYLIGHT
BEGIN:STANDARD
TZOFFSETFROM:-0400
TZOFFSETTO:-0500
TZNAME:EST
DTSTART:20231105T060000
END:STANDARD
BEGIN:DAYLIGHT
TZOFFSETFROM:-0500
TZOFFSETTO:-0400
TZNAME:EDT
DTSTART:20240310T070000
END:DAYLIGHT
BEGIN:STANDARD
TZOFFSETFROM:-0400
TZOFFSETTO:-0500
TZNAME:EST
DTSTART:20241103T060000
END:STANDARD
BEGIN:DAYLIGHT
TZOFFSETFROM:-0500
TZOFFSETTO:-0400
TZNAME:EDT
DTSTART:20250309T070000
END:DAYLIGHT
BEGIN:STANDARD
TZOFFSETFROM:-0400
TZOFFSETTO:-0500
TZNAME:EST
DTSTART:20251102T060000
END:STANDARD
BEGIN:DAYLIGHT
TZOFFSETFROM:-0500
TZOFFSETTO:-0400
TZNAME:EDT
DTSTART:20260308T070000
END:DAYLIGHT
BEGIN:STANDARD
TZOFFSETFROM:-0400
TZOFFSETTO:-0500
TZNAME:EST
DTSTART:20261101T060000
END:STANDARD
END:VTIMEZONE
BEGIN:VTIMEZONE
TZID:America/Toronto
BEGIN:DAYLIGHT
TZOFFSETFROM:-0500
TZOFFSETTO:-0400
TZNAME:EDT
DTSTART:20240310T070000
END:DAYLIGHT
BEGIN:STANDARD
TZOFFSETFROM:-0400
TZOFFSETTO:-0500
TZNAME:EST
DTSTART:20241103T060000
END:STANDARD
BEGIN:DAYLIGHT
TZOFFSETFROM:-0500
TZOFFSETTO:-0400
TZNAME:EDT
DTSTART:20250309T070000
END:DAYLIGHT
BEGIN:STANDARD
TZOFFSETFROM:-0400
TZOFFSETTO:-0500
TZNAME:EST
DTSTART:20251102T060000
END:STANDARD
BEGIN:DAYLIGHT
TZOFFSETFROM:-0500
TZOFFSETTO:-0400
TZNAME:EDT
DTSTART:20260308T070000
END:DAYLIGHT
BEGIN:STANDARD
TZOFFSETFROM:-0400
TZOFFSETTO:-0500
TZNAME:EST
DTSTART:20261101T060000
END:STANDARD
END:VTIMEZONE
BEGIN:VTIMEZONE
TZID:Europe/London
BEGIN:DAYLIGHT
TZOFFSETFROM:+0000
TZOFFSETTO:+0100
TZNAME:BST
DTSTART:20230326T010000
END:DAYLIGHT
BEGIN:STANDARD
TZOFFSETFROM:+0100
TZOFFSETTO:+0000
TZNAME:GMT
DTSTART:20231029T010000
END:STANDARD
BEGIN:DAYLIGHT
TZOFFSETFROM:+0000
TZOFFSETTO:+0100
TZNAME:BST
DTSTART:20240331T010000
END:DAYLIGHT
BEGIN:STANDARD
TZOFFSETFROM:+0100
TZOFFSETTO:+0000
TZNAME:GMT
DTSTART:20241027T010000
END:STANDARD
BEGIN:DAYLIGHT
TZOFFSETFROM:+0000
TZOFFSETTO:+0100
TZNAME:BST
DTSTART:20250330T010000
END:DAYLIGHT
BEGIN:STANDARD
TZOFFSETFROM:+0100
TZOFFSETTO:+0000
TZNAME:GMT
DTSTART:20251026T010000
END:STANDARD
END:VTIMEZONE
BEGIN:VEVENT
DTSTART;TZID=Asia/Hong_Kong:20251128T170000
DTEND;TZID=Asia/Hong_Kong:20251128T200000
DTSTAMP:20260421T085107
CREATED:20251110T144129Z
LAST-MODIFIED:20251110T144129Z
UID:10001029-1764349200-1764360000@wdo.org
SUMMARY:Opening Ceremony and Master Lecture of "Pluriversal Futures"
DESCRIPTION:Hong Kong Design Institute (HKDI) invites you to attend the opening ceremony of Pluriversal Futures – Ars Electronica Exhibition in Collaboration with Hong Kong Design Institute on 28 November 2025\, Friday! \nHKDI Gallery proudly presents its first flagship exhibition of AY25-26: Pluriversal Futures – Ars Electronica Exhibition in Collaboration with Hong Kong Design Institute. Originating from Austria’s renowned Ars Electronica Festival\, Pluriversal Futures showcases award-winning works from the 2024 and 2025 Prix Ars Electronica. Co-curated with Ars Electronica\, the exhibition invites visitors to explore immersive installations and experimental interfaces that reveal the transformative power of digital media. \nThe exhibition will also feature the winning project from the HKDI x Ars Electronica Student Talent Award 2025\, presented as a joint initiative between HKDI and Ars Electronica\, celebrating visionary ideas and innovative design by emerging talents. Through the lens of artists\, scientists\, technologists\, and activists\, the exhibition envisions how emerging technologies are shaping our shared future. This special accolade places student creativity alongside internationally acclaimed works — showcasing how education\, art\, and technology unite to shape a future without borders. \n  \nJoin us for this inspiring celebration of creativity and innovation! \nPluriversal Futures – Ars Electronica Exhibition in Collaboration with Hong Kong Design Institute\nDate: 28 November 2025\, Friday\nTime: 5:00 pm (Lecture) | 6:10 pm (Opening Ceremony)\nVenue: Hong Kong Design Institute (Tiu Keng Leng MTR Station Exit A2) \nMaster Lectures \nSpeakers:\n\nMs Laura WELZENBACH\nCo-Curator\n \nMr Frode OLDEREID\, Mr Gael BERTRAND\, Mr Gaetan LIBERTIAUX & Wai LAU\nThe Participating Artists \nRSVP required\, please register by 25 November: \nOpening Ceremony & Master Lecture: https://hkdi-pluriversalfutures.eventbrite.hk or reach us at hkdi-gallery@vtc.edu.hk\n+852 3928-2566 (Ms Wency Lee) for further information. \nTo find out more details about our exhibition\, please visit: https://hkdi.edu.hk/en/hkdi_gallery/exhibition/arselectronica \nWDO Member: Hong Kong Design Institute
URL:https://wdo.org/event/opening-ceremony-and-master-lecture-of-pluriversal-futures/
LOCATION:Hong Kong SAR\, Hong Kong
CATEGORIES:Lecture,Other
ATTACH;FMTTYPE=image/png:https://wdo.org/wp-content/uploads/pluriverse-e1762785626998.png
END:VEVENT
BEGIN:VEVENT
DTSTART;VALUE=DATE:20251022
DTEND;VALUE=DATE:20251023
DTSTAMP:20260421T085107
CREATED:20251007T150849Z
LAST-MODIFIED:20251007T150849Z
UID:10001010-1761091200-1761177599@wdo.org
SUMMARY:Launch of the "Symbiotic Design Framework” Book
DESCRIPTION:The Symbiotic Design Academy invites WDO members to the exclusive launch of “Symbiotic Design Framework” by Dr. Gonzalo Raineri during Dutch Design Week. \nThis vital new work challenges design to move beyond superficial sustainability\, introducing a framework that positions design as an adaptive\, living system—deeply embedded within our shared ecological and cultural networks. \nAttendance for this private event is limited. To secure your invitation\, please email:\nadmin@symbioticdesignacademy.com \nLearn more: https://www.symbioticdesignacademy.com/ \nWDO Member: Symbiotic Design Academy
URL:https://wdo.org/event/launch-of-the-symbiotic-design-framework-book/
LOCATION:Eindhoven\, Netherlands
CATEGORIES:Other
ATTACH;FMTTYPE=image/jpeg:https://wdo.org/wp-content/uploads/sda_booklaunch.jpg
END:VEVENT
BEGIN:VEVENT
DTSTART;TZID=America/Toronto:20250522T180000
DTEND;TZID=America/Toronto:20250522T200000
DTSTAMP:20260421T085107
CREATED:20250505T164009Z
LAST-MODIFIED:20250505T164009Z
UID:10000956-1747936800-1747944000@wdo.org
SUMMARY:DesignMeets: The Future of Design Teams
DESCRIPTION:Join us for a focused discussion about how design teams are structured and embedded within organizations. We’ll examine barriers that challenge the implementation of design-led innovation\, and how failure to overcome such obstacles can contribute to team decline. We’ll also examine the rise of cross-disciplinary work and the role design leadership can play in helping organizations reckon with complexity. \nWebsite: https://designmeets.ca/events/the-future-of-design-teams \nWDO Member: Pivot Design Group
URL:https://wdo.org/event/designmeets-the-future-of-design-teams/
LOCATION:Toronto\, Canada
CATEGORIES:Other
ATTACH;FMTTYPE=image/jpeg:https://wdo.org/wp-content/uploads/futureofdesignteams.jpg
END:VEVENT
BEGIN:VEVENT
DTSTART;VALUE=DATE:20250508
DTEND;VALUE=DATE:20250509
DTSTAMP:20260421T085107
CREATED:20250505T161149Z
LAST-MODIFIED:20250505T161239Z
UID:10000955-1746662400-1746748799@wdo.org
SUMMARY:DesignMeets: What Makes Canada\, Canada? Exploring Canadian Identity Through Design
DESCRIPTION:Join us for a special screening of Design Canada\, the acclaimed Canadian-made documentary exploring the history and impact of graphic design in shaping Canada’s visual identity. We’re thrilled to welcome the film’s director Greg Durrell\, who will share insights into the making of the film\, the cultural influences behind iconic Canadian symbols\, and the evolving role of design in our national narrative. \nWebsite: https://designmeets.ca/events/what-makes-canada-canada-exploring-canadian-identity-through-design \nWDO Member: Pivot Design Group
URL:https://wdo.org/event/designmeets-what-makes-canada-canada-exploring-canadian-identity-through-design/
LOCATION:Toronto\, Canada
CATEGORIES:Other
ATTACH;FMTTYPE=image/png:https://wdo.org/wp-content/uploads/DM_Canadian-ID_WDO.png
END:VEVENT
BEGIN:VEVENT
DTSTART;VALUE=DATE:20241004
DTEND;VALUE=DATE:20241028
DTSTAMP:20260421T085107
CREATED:20241015T140805Z
LAST-MODIFIED:20241015T140805Z
UID:10000839-1728000000-1730073599@wdo.org
SUMMARY:Voting // Global citizens's choice for Seoul Design Award 2024
DESCRIPTION:Please select two projects that the most coincide with the Seoul Design Award judging criteria for the harmony between people\, society\, and the environment. Evaluation Criteria: Solving Everyday Problems\, Expanding Global Values\, Presenting Future Visions.\n \nWDO Member: Seoul Design Foundation
URL:https://wdo.org/event/voting-global-citizenss-choice-for-seoul-design-award-2024/
LOCATION:Online
CATEGORIES:Other
ATTACH;FMTTYPE=image/png:https://wdo.org/wp-content/uploads/Global-citizens-vote-for-Seoul-Design-Award.png
END:VEVENT
BEGIN:VEVENT
DTSTART;TZID=Europe/London:20240918T180000
DTEND;TZID=Europe/London:20240918T200000
DTSTAMP:20260421T085107
CREATED:20240905T172406Z
LAST-MODIFIED:20240905T172406Z
UID:10000820-1726682400-1726689600@wdo.org
SUMMARY:Save the Date: Meet Benjamin Hubert at London Design Festival
DESCRIPTION:We are excited to invite you to meet Benjamin Hubert\, the founder of Layer\, and discover his new collections for Andreu World at our London showroom during London Design Festival. \nJoin us  for the introduction of innovative designs\, created within a circular economy and focused on enhancing well-being and making a positive impact. Afterward\, let’s celebrate together with Mediterranean Tapas\, Music and Drinks.  \nWe look forward to seeing you there! \nLocation: \nAndreu World London Showroom\n254 Goswell Rd – Ground Floor\nLondon EC1V 7EB \nWDO Member: Andreu World
URL:https://wdo.org/event/save-the-date-meet-benjamin-hubert-at-london-design-festival/
LOCATION:London\, United Kingdom
CATEGORIES:Other
ATTACH;FMTTYPE=image/jpeg:https://wdo.org/wp-content/uploads/andreuworld_benjaminhubert.jpg
END:VEVENT
BEGIN:VEVENT
DTSTART;TZID=America/New_York:20240424T110000
DTEND;TZID=America/New_York:20240424T123000
DTSTAMP:20260421T085107
CREATED:20240415T133328Z
LAST-MODIFIED:20240415T133328Z
UID:10000728-1713956400-1713961800@wdo.org
SUMMARY:Deep Dive with the Gold Award Winners: Imago Design
DESCRIPTION:In this online Deep Dive\, Camillo König\, Industrial Designer and Competence Lead Mechanical Engineering and Bastian Renner\, Senior UI/UX Designer at Imago Design GmbH will walk us through their Gold-Award-winning coffee grinder “Mahlkönig EK OMNIA”.
URL:https://wdo.org/event/deep-dive-with-the-gold-award-winners-imago-design/
LOCATION:Online
CATEGORIES:Other
ATTACH;FMTTYPE=image/png:https://wdo.org/wp-content/uploads/IMAGO_0006_Zoom-1280x400-DeepDive-e1713188001423.png
END:VEVENT
BEGIN:VEVENT
DTSTART;VALUE=DATE:20220331
DTEND;VALUE=DATE:20220402
DTSTAMP:20260421T085107
CREATED:20220215T201534Z
LAST-MODIFIED:20220307T194429Z
UID:10000284-1648684800-1648857599@wdo.org
SUMMARY:WOMEN IN DESIGN 2022
DESCRIPTION:Don’t miss the event of the year for women in design! IDSA’s Women in Design Deep Dive is happening in person in Columbus\, Ohio and virtually for attendees around the world\, from March 31 to April 1\, 2022. Register now at www.idsa.org/widdd2022 for networking\, upskilling\, mentorship opportunities and much more. \nWebsite \nWDO Member: IDSA
URL:https://wdo.org/event/women-in-design-2022/
LOCATION:United States\, United States
CATEGORIES:Other
ATTACH;FMTTYPE=image/jpeg:https://wdo.org/wp-content/uploads/WIDDD-2022_Reg-Open_R.jpg
END:VEVENT
BEGIN:VEVENT
DTSTART;VALUE=DATE:20220101
DTEND;VALUE=DATE:20230101
DTSTAMP:20260421T085107
CREATED:20220105T142728Z
LAST-MODIFIED:20220105T144825Z
UID:10000452-1640995200-1672531199@wdo.org
SUMMARY:SCID 30TH ANNIVERSARY
DESCRIPTION:Department of industrial design was established in 1992 due to trends and demands of the industry. Master programme and on-job training programme of the graduate institute were established respectively in 1998 and 1999. The goals for the under-graduate program are “Professionalism\, Internationalization\, and Industrialization\,” whereas “the combination of theories and practices and the interdisciplinary studies across all fields” are set for the graduate programs. In September\, 2009\, Business Week Magazine reviewed the curricula of SCID as one of the Top 30 World’s Best Design Programmes. \nThe year of 2022 marks the 30th anniversary of Department of Industrial Design\, Shih Chien University in Taipei\, Taiwan. \nWebsite \nWDO Member: Compal
URL:https://wdo.org/event/scid-30th-anniversary/
LOCATION:Taipei\, Taiwan
CATEGORIES:Other
ATTACH;FMTTYPE=image/jpeg:https://wdo.org/wp-content/uploads/SCID.jpg
END:VEVENT
END:VCALENDAR