BEGIN:VCALENDAR
VERSION:2.0
PRODID:-//WDO - ECPv6.15.14//NONSGML v1.0//EN
CALSCALE:GREGORIAN
METHOD:PUBLISH
X-ORIGINAL-URL:https://wdo.org
X-WR-CALDESC:Events for WDO
REFRESH-INTERVAL;VALUE=DURATION:PT1H
X-Robots-Tag:noindex
X-PUBLISHED-TTL:PT1H
BEGIN:VTIMEZONE
TZID:America/New_York
BEGIN:DAYLIGHT
TZOFFSETFROM:-0500
TZOFFSETTO:-0400
TZNAME:EDT
DTSTART:20230312T070000
END:DAYLIGHT
BEGIN:STANDARD
TZOFFSETFROM:-0400
TZOFFSETTO:-0500
TZNAME:EST
DTSTART:20231105T060000
END:STANDARD
BEGIN:DAYLIGHT
TZOFFSETFROM:-0500
TZOFFSETTO:-0400
TZNAME:EDT
DTSTART:20240310T070000
END:DAYLIGHT
BEGIN:STANDARD
TZOFFSETFROM:-0400
TZOFFSETTO:-0500
TZNAME:EST
DTSTART:20241103T060000
END:STANDARD
BEGIN:DAYLIGHT
TZOFFSETFROM:-0500
TZOFFSETTO:-0400
TZNAME:EDT
DTSTART:20250309T070000
END:DAYLIGHT
BEGIN:STANDARD
TZOFFSETFROM:-0400
TZOFFSETTO:-0500
TZNAME:EST
DTSTART:20251102T060000
END:STANDARD
END:VTIMEZONE
BEGIN:VEVENT
DTSTART;VALUE=DATE:20241204
DTEND;VALUE=DATE:20241206
DTSTAMP:20260421T154515
CREATED:20241028T205902Z
LAST-MODIFIED:20241028T205902Z
UID:10000842-1733270400-1733443199@wdo.org
SUMMARY:Swiss Design Network Symposium
DESCRIPTION:This symposium questions the status of design within the academic system and examines how knowledge is produced by design disciplines. The conference aims to provide examples of virtuous practices and to create an arena for a discussion on the relevance of design research as a framework in the medium and long terms. Which experiences and practices are exemplary? Which possibilities does research through design unfold? What can we learn from them\, and how can we further implement design research into research projects and activities? \nWe invited practice- and theory-based contributions anchored in design disciplines (Industrial and Product Design\, Interior Design\, Fashion Design\, Interaction and Service Design\, Graphic and Type Design\, Photography) as well as cross- or transdisciplinary approach (Social Design\, Technology and Design) that present examples of research through design\, discuss methodological and epistemological issues\, and offer novel ways of approaching practice-based research.
URL:https://wdo.org/event/swiss-design-network-symposium/
LOCATION:ÉCAL/University of Art and Design Lausanne\, Lausanne
CATEGORIES:Symposium
ATTACH;FMTTYPE=image/gif:https://wdo.org/wp-content/uploads/unnamed.gif
END:VEVENT
END:VCALENDAR