BEGIN:VCALENDAR
VERSION:2.0
PRODID:-//WDO - ECPv6.15.14//NONSGML v1.0//EN
CALSCALE:GREGORIAN
METHOD:PUBLISH
X-ORIGINAL-URL:https://wdo.org
X-WR-CALDESC:Events for WDO
REFRESH-INTERVAL;VALUE=DURATION:PT1H
X-Robots-Tag:noindex
X-PUBLISHED-TTL:PT1H
BEGIN:VTIMEZONE
TZID:Europe/Paris
BEGIN:DAYLIGHT
TZOFFSETFROM:+0100
TZOFFSETTO:+0200
TZNAME:CEST
DTSTART:20250330T010000
END:DAYLIGHT
BEGIN:STANDARD
TZOFFSETFROM:+0200
TZOFFSETTO:+0100
TZNAME:CET
DTSTART:20251026T010000
END:STANDARD
BEGIN:DAYLIGHT
TZOFFSETFROM:+0100
TZOFFSETTO:+0200
TZNAME:CEST
DTSTART:20260329T010000
END:DAYLIGHT
BEGIN:STANDARD
TZOFFSETFROM:+0200
TZOFFSETTO:+0100
TZNAME:CET
DTSTART:20261025T010000
END:STANDARD
BEGIN:DAYLIGHT
TZOFFSETFROM:+0100
TZOFFSETTO:+0200
TZNAME:CEST
DTSTART:20270328T010000
END:DAYLIGHT
BEGIN:STANDARD
TZOFFSETFROM:+0200
TZOFFSETTO:+0100
TZNAME:CET
DTSTART:20271031T010000
END:STANDARD
END:VTIMEZONE
BEGIN:VEVENT
DTSTART;VALUE=DATE:20260616
DTEND;VALUE=DATE:20260619
DTSTAMP:20260421T154127
CREATED:20260224T140253Z
LAST-MODIFIED:20260224T140253Z
UID:10001081-1781568000-1781827199@wdo.org
SUMMARY:CATIA User Symposium Europe
DESCRIPTION:The CATIA User Symposium Europe (CUSE) brings CATIA users together to learn\, share\, and connect. On 16 June\, join hands-on workshops in Creative Design\, ICEM\, MBSE\, and advanced mechanical techniques. On 17–18 June\, attend keynotes\, domain sessions\, and live demonstrations while networking with experts. Discover new tools\, techniques\, and sustainable approaches to product development\, all as part of 3DEXPERIENCE Week. \nLearn more: https://myevents.3ds.com/catia-user-symposium-europe \nWDO Member: Dassault Systèmes
URL:https://wdo.org/event/catia-user-symposium-europe/
LOCATION:Darmstadt\, Germany
CATEGORIES:Symposium
ATTACH;FMTTYPE=image/png:https://wdo.org/wp-content/uploads/CATIA-User-Symposium-EuropeW-O-Star-2026-855x480-1.png
END:VEVENT
END:VCALENDAR