BEGIN:VCALENDAR
VERSION:2.0
PRODID:-//WDO - ECPv6.15.14//NONSGML v1.0//EN
CALSCALE:GREGORIAN
METHOD:PUBLISH
X-WR-CALNAME:WDO
X-ORIGINAL-URL:https://wdo.org
X-WR-CALDESC:Events for WDO
REFRESH-INTERVAL;VALUE=DURATION:PT1H
X-Robots-Tag:noindex
X-PUBLISHED-TTL:PT1H
BEGIN:VTIMEZONE
TZID:Asia/Shanghai
BEGIN:STANDARD
TZOFFSETFROM:+0800
TZOFFSETTO:+0800
TZNAME:CST
DTSTART:20250101T000000
END:STANDARD
END:VTIMEZONE
BEGIN:VEVENT
DTSTART;VALUE=DATE:20260629
DTEND;VALUE=DATE:20260713
DTSTAMP:20260421T072148
CREATED:20260317T134704Z
LAST-MODIFIED:20260317T134704Z
UID:10001091-1782691200-1783900799@wdo.org
SUMMARY:“Design Futures·Shared Vision” 2026 International Summer Program
DESCRIPTION:The Academy of Arts & Design at Tsinghua University will launch its 2026 International Summer Program under the overarching theme “Design Futures: Shared Vision.” The annual sub-theme is Resilient Symbiosis. Building on the Academy’s strengths in interdisciplinary innovation and talent development\, the program will focus on three tracks: Resilient Aero-Urbanism\, Resilient Blue-Life\, and Resilient Socio-Digital. \nProposal submission deadline: May 6\, 2026. \nLearn more: http://www.ati-tsinghua.com.cn/en/summerschool.html \nWDO Member: Academy of Arts & Design\, Tsinghua University
URL:https://wdo.org/event/design-futures%c2%b7shared-vision-2026-international-summer-program/
LOCATION:Beijing\, China
CATEGORIES:Workshop
ATTACH;FMTTYPE=image/webp:https://wdo.org/wp-content/uploads/designfutures_sharedvision.webp
END:VEVENT
END:VCALENDAR