BEGIN:VCALENDAR
VERSION:2.0
PRODID:-//WDO - ECPv6.15.14//NONSGML v1.0//EN
CALSCALE:GREGORIAN
METHOD:PUBLISH
X-ORIGINAL-URL:https://wdo.org
X-WR-CALDESC:Events for WDO
REFRESH-INTERVAL;VALUE=DURATION:PT1H
X-Robots-Tag:noindex
X-PUBLISHED-TTL:PT1H
BEGIN:VTIMEZONE
TZID:America/New_York
BEGIN:DAYLIGHT
TZOFFSETFROM:-0500
TZOFFSETTO:-0400
TZNAME:EDT
DTSTART:20190310T070000
END:DAYLIGHT
BEGIN:STANDARD
TZOFFSETFROM:-0400
TZOFFSETTO:-0500
TZNAME:EST
DTSTART:20191103T060000
END:STANDARD
BEGIN:DAYLIGHT
TZOFFSETFROM:-0500
TZOFFSETTO:-0400
TZNAME:EDT
DTSTART:20200308T070000
END:DAYLIGHT
BEGIN:STANDARD
TZOFFSETFROM:-0400
TZOFFSETTO:-0500
TZNAME:EST
DTSTART:20201101T060000
END:STANDARD
BEGIN:DAYLIGHT
TZOFFSETFROM:-0500
TZOFFSETTO:-0400
TZNAME:EDT
DTSTART:20210314T070000
END:DAYLIGHT
BEGIN:STANDARD
TZOFFSETFROM:-0400
TZOFFSETTO:-0500
TZNAME:EST
DTSTART:20211107T060000
END:STANDARD
BEGIN:DAYLIGHT
TZOFFSETFROM:-0500
TZOFFSETTO:-0400
TZNAME:EDT
DTSTART:20220313T070000
END:DAYLIGHT
BEGIN:STANDARD
TZOFFSETFROM:-0400
TZOFFSETTO:-0500
TZNAME:EST
DTSTART:20221106T060000
END:STANDARD
BEGIN:DAYLIGHT
TZOFFSETFROM:-0500
TZOFFSETTO:-0400
TZNAME:EDT
DTSTART:20230312T070000
END:DAYLIGHT
BEGIN:STANDARD
TZOFFSETFROM:-0400
TZOFFSETTO:-0500
TZNAME:EST
DTSTART:20231105T060000
END:STANDARD
BEGIN:DAYLIGHT
TZOFFSETFROM:-0500
TZOFFSETTO:-0400
TZNAME:EDT
DTSTART:20240310T070000
END:DAYLIGHT
BEGIN:STANDARD
TZOFFSETFROM:-0400
TZOFFSETTO:-0500
TZNAME:EST
DTSTART:20241103T060000
END:STANDARD
END:VTIMEZONE
BEGIN:VEVENT
DTSTART;VALUE=DATE:20220101
DTEND;VALUE=DATE:20220129
DTSTAMP:20260424T122857
CREATED:20220117T154915Z
LAST-MODIFIED:20220117T155333Z
UID:10000272-1640995200-1643414399@wdo.org
SUMMARY:DESIGN PLUS
DESCRIPTION:A competition for all exhibitors at Light + Building: Design Plus powered by Light + Building honours pioneering products at the trade fair – thus reflecting the creative innovation in their product worlds: the competition shows how lighting\, electrical engineering and building automation can impress not only in terms of comfort and technology but also in their design. \nWebsite \nWDO Member: German Design Council
URL:https://wdo.org/event/design-plus/
LOCATION:Frankfurt\, Germany
CATEGORIES:Competition
ATTACH;FMTTYPE=image/jpeg:https://wdo.org/wp-content/uploads/designplus.jpg
END:VEVENT
BEGIN:VEVENT
DTSTART;VALUE=DATE:20211126
DTEND;VALUE=DATE:20220128
DTSTAMP:20260424T122857
CREATED:20211129T151145Z
LAST-MODIFIED:20211129T151514Z
UID:10000448-1637884800-1643327999@wdo.org
SUMMARY:DISCOVER MARVELLOUS DESIGNS ‧ DFA AWARDS 2021 ONLINE SHOWCASE
DESCRIPTION:Amidst the pandemic\, creativity and innovation proves to be the remedy for improving our quality of life. This year’s awardees and their awarded projects meaningfully address critical issues through technological advancements\, and marriage of functionality and aesthetics. The designs unite people from all walks of life through one singularity\, and contribute to the betterment of society in Asia and beyond. At DFA Awards Online Showcase\, you can explore influential design projects for Asia\, get familiar with global design trailblazers\, and meet emerging Hong Kong designers. Some of the winners also show up in videos in explaining their design stories. \nWebsite \nWDO Member: HKDC
URL:https://wdo.org/event/discover-marvellous-designs-%e2%80%a7-dfa-awards-2021-online-showcase/
LOCATION:Hong Kong (China)
CATEGORIES:Awards,Exhibition
ATTACH;FMTTYPE=image/jpeg:https://wdo.org/wp-content/uploads/DFA_Awards_2021_Online_Showcase_for_WDO.jpg
END:VEVENT
BEGIN:VEVENT
DTSTART;VALUE=DATE:20211117
DTEND;VALUE=DATE:20220111
DTSTAMP:20260424T122857
CREATED:20210105T161837Z
LAST-MODIFIED:20210105T162136Z
UID:10000322-1637107200-1641859199@wdo.org
SUMMARY:EMERGENCY! DESIGN AGAINST COVID-19
DESCRIPTION:The Design Museum has dedicated special attention to emergency designs in the spheres of protective equipment\, machinery or graphics linked to communication and information campaigns\, projects that will become part of the Museum collection. With more than thirty initiatives\, both public and private\, the emphasis is on pieces such as the contributions in face masks made by fashion designers Txell Miras\, Josep Abril with Opisso and Miriam Ponsa\, or the Gracia Mask acetate face protection shield by Joan Ayguadé. Outstanding in the field of protective devices for use by the health services is the 3DDF equipment designed\, executed and co-financed by the design studio MOS and the Aleu mask\, developed by Eurecat. In clinical machinery the developments of respiratory apparatus stand out: the Angel-Y valve designed by Minnim Design\, the respirator and bifurcator by Leitat or the collaborative social innovation project for open hardware OxyGEN promoted by Protofy.xyz. Other outstanding contributions include the MTS uvc robot which disinfects rooms and surfaces or the modular air management system\, AMS mini\, designed by FICEPS3. \nWebsite
URL:https://wdo.org/event/emergency-design-against-covid-19/
LOCATION:Valencia\, Spain
CATEGORIES:Exhibition,World Design Capital
ATTACH;FMTTYPE=image/jpeg:https://wdo.org/wp-content/uploads/emergency-design-against-covid.jpg
END:VEVENT
BEGIN:VEVENT
DTSTART;VALUE=DATE:20211011
DTEND;VALUE=DATE:20220212
DTSTAMP:20260424T122857
CREATED:20211013T145354Z
LAST-MODIFIED:20211013T145731Z
UID:10000429-1633910400-1644623999@wdo.org
SUMMARY:The Red Dot Award: Product Design 2022
DESCRIPTION:The Red Dot Award: Product Design is entering a new competition year. From 11 October 2021 to 11 February 2022\, designers\, design offices and manufacturers can once again enter their products and have an international jury assess their design quality. Entries can be made in one or several of the roughly 50 categories ranging from furniture and kitchen appliances to toys\, consumer electronics\, medical technology\, robots and vehicles. \nWebsite
URL:https://wdo.org/event/the-red-dot-award-product-design-2022/
LOCATION:Global event
CATEGORIES:Competition
ATTACH;FMTTYPE=image/jpeg:https://wdo.org/wp-content/uploads/red-dot-2022.jpg
END:VEVENT
BEGIN:VEVENT
DTSTART;VALUE=DATE:20211001
DTEND;VALUE=DATE:20220302
DTSTAMP:20260424T122857
CREATED:20200408T132323Z
LAST-MODIFIED:20201217T201706Z
UID:10000082-1633046400-1646179199@wdo.org
SUMMARY:EXPO DUBAI 2020
DESCRIPTION:Expo 2020 Dubai will host the world for 173 days\, each one brimming with new experiences. It’ll be a time to create\, collaborate and innovate. And it’s going to be fun. We’re talking eye-catching\, mind-bending\, taste bud-tickling\, grin-inducing\, good-weird\, did-that-really-just-happen fun. Come along\, or spend a lifetime telling less interesting stories. \nWebsite
URL:https://wdo.org/event/expo-dubai-2020/
LOCATION:Dubai (UAE)\, Dubai\, United Arab Emirates
CATEGORIES:Exhibition
ATTACH;FMTTYPE=image/jpeg:https://wdo.org/wp-content/uploads/2020/04/expodubai.jpg
END:VEVENT
BEGIN:VEVENT
DTSTART;VALUE=DATE:20210923
DTEND;VALUE=DATE:20220307
DTSTAMP:20260424T122857
CREATED:20210910T153503Z
LAST-MODIFIED:20210910T153719Z
UID:10000253-1632355200-1646611199@wdo.org
SUMMARY:HERE WE ARE! WOMEN IN DESIGN 1900 – TODAY
DESCRIPTION:Be it in furniture design\, fashion design\, industrial design\, or interior design\, women have contributed crucially to the development of modern design\, both creatively and commercially. The exhibition »Here We Are! Women in Design 1900 – Today« explores the role of designers from the past 120 years and tells a new\, many-voiced story of design against the background of the struggle for equal rights and recognition. Around eighty women in design are showcased in the exhibition\, including protagonists of modernism like Eileen Gray\, Charlotte Perriand\, Clara Porset\, and Jeanne Toussaint\, business leaders like Florence Knoll and Armi Ratia\, but also lesser-known figures like the social reformer Jane Addams. Contemporary positions and future outlooks are represented by such designers as Matali Crasset\, Patricia Urquiola\, Julia Lohmann\, and the Matri-Archi(tecture) collective. \nWebsite
URL:https://wdo.org/event/here-we-are-women-in-design-1900-today/
LOCATION:Munich\, Germany
CATEGORIES:Exhibition
ATTACH;FMTTYPE=image/jpeg:https://wdo.org/wp-content/uploads/women-in-design.jpg
END:VEVENT
BEGIN:VEVENT
DTSTART;VALUE=DATE:20210918
DTEND;VALUE=DATE:20220201
DTSTAMP:20260424T122857
CREATED:20210105T162203Z
LAST-MODIFIED:20210105T162417Z
UID:10000324-1631923200-1643673599@wdo.org
SUMMARY:VALENCIAN DESIGN (2009-2019) PRODUCTS FOR A GLOBAL WORLD
DESCRIPTION:This exhibition proposes a route through Valencian design product from 2009 to date\, focusing on a careful selection of some 170 pieces that analyse the complexity and the experimental and innovative value of this field of design. The fact that the exhibition is held at the IVAM Alcoi pays a tribute to this city which was one of the focal points of the industrial revolution in Spain at the end of the 19th century\, and to the inland regions of Alicante where a great tradition of productive industries continues to thrive. In this respect\, the exhibition is oriented towards product design in its widest sense\, ranging from objects that configure spaces on an individual level to those that enable us to spend time in public places\, through the objects that enable us to meet\, work or wait away from home. \nWebsite
URL:https://wdo.org/event/corona-crisis-and-culture-copy/
LOCATION:Valencia\, Spain
CATEGORIES:Exhibition,World Design Capital
ATTACH;FMTTYPE=image/jpeg:https://wdo.org/wp-content/uploads/valencia-pandemic.jpg
END:VEVENT
BEGIN:VEVENT
DTSTART;VALUE=DATE:20210819
DTEND;VALUE=DATE:20220301
DTSTAMP:20260424T122857
CREATED:20210819T133600Z
LAST-MODIFIED:20210819T134328Z
UID:10000420-1629331200-1646092799@wdo.org
SUMMARY:C-IDEA DESIGN AWARD 2021
DESCRIPTION:The C-IDEA Design Award is the worlds’ annual juried design competition. It aims to recognize and promote visionary talents in a wide array of categories ranging from communication design\, industrial design\, architecture\, interior design\, fashion design\, and new media. A yearbook and exhibition of the nominated designs are also presented as part of the event. \nWebsite
URL:https://wdo.org/event/c-idea-design-award-2021/
LOCATION:Melbourne\, Australia
CATEGORIES:Call for proposals
ATTACH;FMTTYPE=image/jpeg:https://wdo.org/wp-content/uploads/c-idea.jpg
END:VEVENT
BEGIN:VEVENT
DTSTART;VALUE=DATE:20210331
DTEND;VALUE=DATE:20220102
DTSTAMP:20260424T122857
CREATED:20210608T131220Z
LAST-MODIFIED:20210608T131455Z
UID:10000228-1617148800-1641081599@wdo.org
SUMMARY:SIT FURNITURE DESIGN AWARD
DESCRIPTION:SIT Furniture Design Award ™ was created as a way to celebrate and share the remarkable work of furniture designers and those who use furniture in their projects. Creativity\, innovative vision\, and accessibility in the furniture design community deserve to be applauded and shared widely\, across the world. \nWebsite
URL:https://wdo.org/event/sit-furniture-design-award/
LOCATION:Virtual Event
CATEGORIES:Awards
ATTACH;FMTTYPE=image/jpeg:https://wdo.org/wp-content/uploads/sit.jpg
END:VEVENT
BEGIN:VEVENT
DTSTART;VALUE=DATE:20201026
DTEND;VALUE=DATE:20230831
DTSTAMP:20260424T122857
CREATED:20210507T162554Z
LAST-MODIFIED:20211026T135251Z
UID:10000397-1603670400-1693439999@wdo.org
SUMMARY:“HEART OF CYBERPUNK” 360° VR TOUR
DESCRIPTION:#ddHK had worked with 10 local fashion and accessories designer units and many other creatives to use materials sourced in Sham Shui Po to create “Heart of Cyberpunk – Immersive Fashion Experience”. Inspired by the history of garment and electronic retail industry in the district\, the exhibition pulled together fashion and multidisciplinary designs and arts to put on stage a genre-defying immersive fashion experience in 2020\, the Year of Cyberpunk. Riding on cyberpunk culture which is inspired by the streetscape of Hong Kong\, in particular Sham Shui Po\, the exhibition created an original Sci-fi adventure story that envisaged the mystery of future human sustainable development to link up all elements. The main base of “Heart of Cyberpunk” and Cyborg Transformation Factory has now gone virtual and are just one click away\, don’t miss it!  \nWebsite \nWDO Member: HKDC
URL:https://wdo.org/event/heart-of-cyberpunk-360-vr-tour/
LOCATION:Hong Kong (China)
CATEGORIES:Design week,Exhibition,Festival
ATTACH;FMTTYPE=image/jpeg:https://wdo.org/wp-content/uploads/ddhk-vr.jpg
END:VEVENT
END:VCALENDAR