BEGIN:VCALENDAR
VERSION:2.0
PRODID:-//WDO - ECPv6.15.14//NONSGML v1.0//EN
CALSCALE:GREGORIAN
METHOD:PUBLISH
X-ORIGINAL-URL:https://wdo.org
X-WR-CALDESC:Events for WDO
REFRESH-INTERVAL;VALUE=DURATION:PT1H
X-Robots-Tag:noindex
X-PUBLISHED-TTL:PT1H
BEGIN:VTIMEZONE
TZID:America/New_York
BEGIN:DAYLIGHT
TZOFFSETFROM:-0500
TZOFFSETTO:-0400
TZNAME:EDT
DTSTART:20220313T070000
END:DAYLIGHT
BEGIN:STANDARD
TZOFFSETFROM:-0400
TZOFFSETTO:-0500
TZNAME:EST
DTSTART:20221106T060000
END:STANDARD
BEGIN:DAYLIGHT
TZOFFSETFROM:-0500
TZOFFSETTO:-0400
TZNAME:EDT
DTSTART:20230312T070000
END:DAYLIGHT
BEGIN:STANDARD
TZOFFSETFROM:-0400
TZOFFSETTO:-0500
TZNAME:EST
DTSTART:20231105T060000
END:STANDARD
BEGIN:DAYLIGHT
TZOFFSETFROM:-0500
TZOFFSETTO:-0400
TZNAME:EDT
DTSTART:20240310T070000
END:DAYLIGHT
BEGIN:STANDARD
TZOFFSETFROM:-0400
TZOFFSETTO:-0500
TZNAME:EST
DTSTART:20241103T060000
END:STANDARD
BEGIN:DAYLIGHT
TZOFFSETFROM:-0500
TZOFFSETTO:-0400
TZNAME:EDT
DTSTART:20250309T070000
END:DAYLIGHT
BEGIN:STANDARD
TZOFFSETFROM:-0400
TZOFFSETTO:-0500
TZNAME:EST
DTSTART:20251102T060000
END:STANDARD
END:VTIMEZONE
BEGIN:VEVENT
DTSTART;VALUE=DATE:20230524
DTEND;VALUE=DATE:20240415
DTSTAMP:20260422T154017
CREATED:20230526T115220Z
LAST-MODIFIED:20230526T120235Z
UID:10000576-1684886400-1713139199@wdo.org
SUMMARY:SIT FURNITURE DESIGN AWARDS 2024
DESCRIPTION:The SIT Furniture Design Award has become a platform for recognizing top-notch talent in the world of furniture and interior design. Check out the winners of the competition’s third edition\, and discover how they achieved the perfect balance between form and function. \nWDO Member: 3C AWARDS
URL:https://wdo.org/event/sit-furniture-design-awards-2024/
LOCATION:Zurich\, Switzerland
CATEGORIES:Awards
ATTACH;FMTTYPE=image/jpeg:https://wdo.org/wp-content/uploads/From-left-to-right-ED407-Lido-Sofa-by-Studio-Paolo-Ferrari-photo-credit-Dion-Yu-Yan-Lin-Punto-by-Sofia-von-Hauske-Kaef-armchair-by-Arseniy-Brodach.jpg
END:VEVENT
BEGIN:VEVENT
DTSTART;VALUE=DATE:20230516
DTEND;VALUE=DATE:20231104
DTSTAMP:20260422T154017
CREATED:20230519T144612Z
LAST-MODIFIED:20230523T153618Z
UID:10000570-1684195200-1699055999@wdo.org
SUMMARY:The Global Footwear Awards Announces Call for Submissions for 4th Edition
DESCRIPTION:The Global Footwear Awards offer a unique opportunity for designers to showcase their talent and gain exposure to industry professionals and potential clients. With a prestigious jury panel and categories spanning sustainability\, innovation\, and more\, the GFA is the premier platform for celebrating excellence in footwear design. \nWDO Member: 3C AWARDS
URL:https://wdo.org/event/the-global-footwear-awards-announces-call-for-submissions-for-4th-edition/
LOCATION:Switzerland
CATEGORIES:Awards
ATTACH;FMTTYPE=image/png:https://wdo.org/wp-content/uploads/GFA_LOGO-1.png
END:VEVENT
END:VCALENDAR