BEGIN:VCALENDAR
VERSION:2.0
PRODID:-//WDO - ECPv6.15.14//NONSGML v1.0//EN
CALSCALE:GREGORIAN
METHOD:PUBLISH
X-ORIGINAL-URL:https://wdo.org
X-WR-CALDESC:Events for WDO
REFRESH-INTERVAL;VALUE=DURATION:PT1H
X-Robots-Tag:noindex
X-PUBLISHED-TTL:PT1H
BEGIN:VTIMEZONE
TZID:Europe/Rome
BEGIN:DAYLIGHT
TZOFFSETFROM:+0100
TZOFFSETTO:+0200
TZNAME:CEST
DTSTART:20250330T010000
END:DAYLIGHT
BEGIN:STANDARD
TZOFFSETFROM:+0200
TZOFFSETTO:+0100
TZNAME:CET
DTSTART:20251026T010000
END:STANDARD
BEGIN:DAYLIGHT
TZOFFSETFROM:+0100
TZOFFSETTO:+0200
TZNAME:CEST
DTSTART:20260329T010000
END:DAYLIGHT
BEGIN:STANDARD
TZOFFSETFROM:+0200
TZOFFSETTO:+0100
TZNAME:CET
DTSTART:20261025T010000
END:STANDARD
BEGIN:DAYLIGHT
TZOFFSETFROM:+0100
TZOFFSETTO:+0200
TZNAME:CEST
DTSTART:20270328T010000
END:DAYLIGHT
BEGIN:STANDARD
TZOFFSETFROM:+0200
TZOFFSETTO:+0100
TZNAME:CET
DTSTART:20271031T010000
END:STANDARD
END:VTIMEZONE
BEGIN:VEVENT
DTSTART;VALUE=DATE:20260203
DTEND;VALUE=DATE:20260407
DTSTAMP:20260420T211726
CREATED:20260317T140541Z
LAST-MODIFIED:20260317T140541Z
UID:10001092-1770076800-1775519999@wdo.org
SUMMARY:IN-PLAY. Design for sport
DESCRIPTION:Building on the principle of the Olympic Charter\, which recognizes sport as a fundamental human right\, IN-PLAY. Design for Sport presents sports practice as a shared space and a platform for global dialogue. The exhibition explores cultural transformations in contemporary society\, where design acts as a witness to a profound paradigm shift: projects\, stories\, data\, and biomedical research collectively redefine the boundaries of competition. \nIN-PLAY. Design for Sport\nSport is a human right. Design opens the game\nFebruary 3 – April 6\, 2026\nPart of the Cultural Olympiad of Milano Cortina 2026 \nLearn more: https://www.adidesignmuseum.org/en/exhibition-categories/temporary-exhibition/in-play-design-for-sport/
URL:https://wdo.org/event/in-play-design-for-sport/
LOCATION:Milan\, Italy
CATEGORIES:Exhibition
ATTACH;FMTTYPE=image/webp:https://wdo.org/wp-content/uploads/inplay.webp
END:VEVENT
END:VCALENDAR