BEGIN:VCALENDAR
VERSION:2.0
PRODID:-//WDO - ECPv6.15.14//NONSGML v1.0//EN
CALSCALE:GREGORIAN
METHOD:PUBLISH
X-ORIGINAL-URL:https://wdo.org
X-WR-CALDESC:Events for WDO
REFRESH-INTERVAL;VALUE=DURATION:PT1H
X-Robots-Tag:noindex
X-PUBLISHED-TTL:PT1H
BEGIN:VTIMEZONE
TZID:Europe/Helsinki
BEGIN:DAYLIGHT
TZOFFSETFROM:+0200
TZOFFSETTO:+0300
TZNAME:EEST
DTSTART:20240331T010000
END:DAYLIGHT
BEGIN:STANDARD
TZOFFSETFROM:+0300
TZOFFSETTO:+0200
TZNAME:EET
DTSTART:20241027T010000
END:STANDARD
BEGIN:DAYLIGHT
TZOFFSETFROM:+0200
TZOFFSETTO:+0300
TZNAME:EEST
DTSTART:20250330T010000
END:DAYLIGHT
BEGIN:STANDARD
TZOFFSETFROM:+0300
TZOFFSETTO:+0200
TZNAME:EET
DTSTART:20251026T010000
END:STANDARD
BEGIN:DAYLIGHT
TZOFFSETFROM:+0200
TZOFFSETTO:+0300
TZNAME:EEST
DTSTART:20260329T010000
END:DAYLIGHT
BEGIN:STANDARD
TZOFFSETFROM:+0300
TZOFFSETTO:+0200
TZNAME:EET
DTSTART:20261025T010000
END:STANDARD
END:VTIMEZONE
BEGIN:VTIMEZONE
TZID:America/New_York
BEGIN:DAYLIGHT
TZOFFSETFROM:-0500
TZOFFSETTO:-0400
TZNAME:EDT
DTSTART:20230312T070000
END:DAYLIGHT
BEGIN:STANDARD
TZOFFSETFROM:-0400
TZOFFSETTO:-0500
TZNAME:EST
DTSTART:20231105T060000
END:STANDARD
BEGIN:DAYLIGHT
TZOFFSETFROM:-0500
TZOFFSETTO:-0400
TZNAME:EDT
DTSTART:20240310T070000
END:DAYLIGHT
BEGIN:STANDARD
TZOFFSETFROM:-0400
TZOFFSETTO:-0500
TZNAME:EST
DTSTART:20241103T060000
END:STANDARD
BEGIN:DAYLIGHT
TZOFFSETFROM:-0500
TZOFFSETTO:-0400
TZNAME:EDT
DTSTART:20250309T070000
END:DAYLIGHT
BEGIN:STANDARD
TZOFFSETFROM:-0400
TZOFFSETTO:-0500
TZNAME:EST
DTSTART:20251102T060000
END:STANDARD
BEGIN:DAYLIGHT
TZOFFSETFROM:-0500
TZOFFSETTO:-0400
TZNAME:EDT
DTSTART:20260308T070000
END:DAYLIGHT
BEGIN:STANDARD
TZOFFSETFROM:-0400
TZOFFSETTO:-0500
TZNAME:EST
DTSTART:20261101T060000
END:STANDARD
END:VTIMEZONE
BEGIN:VTIMEZONE
TZID:Europe/London
BEGIN:DAYLIGHT
TZOFFSETFROM:+0000
TZOFFSETTO:+0100
TZNAME:BST
DTSTART:20230326T010000
END:DAYLIGHT
BEGIN:STANDARD
TZOFFSETFROM:+0100
TZOFFSETTO:+0000
TZNAME:GMT
DTSTART:20231029T010000
END:STANDARD
BEGIN:DAYLIGHT
TZOFFSETFROM:+0000
TZOFFSETTO:+0100
TZNAME:BST
DTSTART:20240331T010000
END:DAYLIGHT
BEGIN:STANDARD
TZOFFSETFROM:+0100
TZOFFSETTO:+0000
TZNAME:GMT
DTSTART:20241027T010000
END:STANDARD
BEGIN:DAYLIGHT
TZOFFSETFROM:+0000
TZOFFSETTO:+0100
TZNAME:BST
DTSTART:20250330T010000
END:DAYLIGHT
BEGIN:STANDARD
TZOFFSETFROM:+0100
TZOFFSETTO:+0000
TZNAME:GMT
DTSTART:20251026T010000
END:STANDARD
END:VTIMEZONE
BEGIN:VEVENT
DTSTART;TZID=Europe/Helsinki:20250627T100000
DTEND;TZID=Europe/Helsinki:20250627T140000
DTSTAMP:20260423T101426
CREATED:20250605T153226Z
LAST-MODIFIED:20250605T153226Z
UID:10000971-1751018400-1751032800@wdo.org
SUMMARY:World Industrial Design Day from Valencia
DESCRIPTION:Join WDO\, Andreu World\, Design Foundation of the Region of Valencia and Ayuntamiento de València for a series of live panel sessions in Valencia celebrating World Industrial Design Day. Under the banner of this year’s theme let’s get ethical\, this programme will bring together local and international design professionals\, companies\, students and institutions to address the major challenges facing design\, from sustainability to accessibility and emerging technologies. The live sessions will be held at La Harinera in Valencia (Spain) from 10am to 2pm  CEST and be followed by a reception and networking. \nRegister: https://www.eventbrite.es/e/world-industrial-design-day-from-valencia-tickets-1392363058389?aff=oddtdtcreator \nWDO Members: Andreu World and Design Foundation of the Region of Valencia
URL:https://wdo.org/event/world-industrial-design-day-from-valencia/
LOCATION:Valencia\, Spain
CATEGORIES:World Industrial Design Day
ATTACH;FMTTYPE=image/jpeg:https://wdo.org/wp-content/uploads/WIDD2025_AndreuWorld-e1749136683818.jpg
END:VEVENT
BEGIN:VEVENT
DTSTART;TZID=America/New_York:20250325T080000
DTEND;TZID=America/New_York:20250325T090000
DTSTAMP:20260423T101426
CREATED:20250318T182200Z
LAST-MODIFIED:20251126T204410Z
UID:10000914-1742889600-1742893200@wdo.org
SUMMARY:Webinar: Manufacturing a Better World
DESCRIPTION:Join WDO Corporate Member Andreu World on 25 March for an insightful webinar sharing more about the Spanish company’s legacy of responsible design\, spanning seven decades. \nRegister here: http://bit.ly/70yearsofDesign
URL:https://wdo.org/event/webinar-manufacturing-a-better-world/
LOCATION:Online
CATEGORIES:WDO event,Webinar
ATTACH;FMTTYPE=image/jpeg:https://wdo.org/wp-content/uploads/andreuworld70_LI-e1742321980417.jpg
END:VEVENT
BEGIN:VEVENT
DTSTART;VALUE=DATE:20250320
DTEND;VALUE=DATE:20251129
DTSTAMP:20260423T101426
CREATED:20250501T191752Z
LAST-MODIFIED:20250501T191752Z
UID:10000949-1742428800-1764374399@wdo.org
SUMMARY:24th Andreu World International Design Contest
DESCRIPTION:70 Years Manufacturing a Better World  \nSince 1955\, Andreu World has developed a solid industrial culture based on the manufacture of high-quality seating and tables. Good design\, production capacity and a commitment to sustainability are our main hallmarks. On the occasion of their 70th anniversary\, this special edition invites participants to present a seat and/or table design that reflects and conforms to the values that have guided Andreu World’s journey over these seven decades: sustainability\, innovation\, quality (timelessness-industrial culture)\, and social commitment. \nThe call for entries is now open until 28 November 2025. \nLearn more: https://andreuworld.com/en/talent/design-contest \nWDO Member: Andreu World
URL:https://wdo.org/event/24th-andreu-world-international-design-contest/
LOCATION:Valencia\, Spain
CATEGORIES:Call for entries,Competition
ATTACH;FMTTYPE=image/jpeg:https://wdo.org/wp-content/uploads/andreuworld_70yrs_event.jpg
END:VEVENT
BEGIN:VEVENT
DTSTART;TZID=Europe/London:20240918T180000
DTEND;TZID=Europe/London:20240918T200000
DTSTAMP:20260423T101426
CREATED:20240905T172406Z
LAST-MODIFIED:20240905T172406Z
UID:10000820-1726682400-1726689600@wdo.org
SUMMARY:Save the Date: Meet Benjamin Hubert at London Design Festival
DESCRIPTION:We are excited to invite you to meet Benjamin Hubert\, the founder of Layer\, and discover his new collections for Andreu World at our London showroom during London Design Festival. \nJoin us  for the introduction of innovative designs\, created within a circular economy and focused on enhancing well-being and making a positive impact. Afterward\, let’s celebrate together with Mediterranean Tapas\, Music and Drinks.  \nWe look forward to seeing you there! \nLocation: \nAndreu World London Showroom\n254 Goswell Rd – Ground Floor\nLondon EC1V 7EB \nWDO Member: Andreu World
URL:https://wdo.org/event/save-the-date-meet-benjamin-hubert-at-london-design-festival/
LOCATION:London\, United Kingdom
CATEGORIES:Other
ATTACH;FMTTYPE=image/jpeg:https://wdo.org/wp-content/uploads/andreuworld_benjaminhubert.jpg
END:VEVENT
BEGIN:VEVENT
DTSTART;TZID=America/New_York:20240702T080000
DTEND;TZID=America/New_York:20240702T170000
DTSTAMP:20260423T101426
CREATED:20240702T160012Z
LAST-MODIFIED:20240702T160308Z
UID:10000788-1719907200-1719939600@wdo.org
SUMMARY:Webinar: 23rd Andreu World International Design Contest
DESCRIPTION:We invite you to the next webinar where we will present the 23rd Andreu World International Design Contest. This year the contest takes on a special character as it is aligned with the Circular Design® Challenge initiative\, a challenge that aims to promote practices such as eco-design\, zero waste management\, a neutral carbon footprint and the selection of sustainable materials. A single prize of 20\,000 euros will be awarded for the best design of a seat and/or table\, manufactured and conceived for the circular economy. \nWebinar\n10 July 2024\n9:30 UTC+2\n\n\n\nRegister here: https://us02web.zoom.us/webinar/register/WN_RELvO-SFQRaah6y785Z0Yg#/registration \nWDO Member: Andreu World
URL:https://wdo.org/event/webinar-23rd-andreu-world-international-design-contest/
LOCATION:Online
CATEGORIES:Webinar
ATTACH;FMTTYPE=image/jpeg:https://wdo.org/wp-content/uploads/andreuworld_2024_webinar-e1719935989601.jpg
END:VEVENT
BEGIN:VEVENT
DTSTART;VALUE=DATE:20240601
DTEND;VALUE=DATE:20241130
DTSTAMP:20260423T101426
CREATED:20240618T130713Z
LAST-MODIFIED:20240809T142638Z
UID:10000777-1717200000-1732924799@wdo.org
SUMMARY:Andreu World 2024
DESCRIPTION:Special edition Circular Design® Challenge \nAndreu World has launched the 2024 edition of their International Design Contest calling for sustainably designed chairs or tables. Open to students and design professionals worldwide\, the deadline to submit is 29 November 2024. \nApply today: https://andreuworld.com/en/talent/design-contest \nWDO Member: Andreu World
URL:https://wdo.org/event/andreu-world-2024/
LOCATION:Valencia\, Spain
CATEGORIES:Awards
ATTACH;FMTTYPE=image/png:https://wdo.org/wp-content/uploads/andreuworld2024.png
END:VEVENT
END:VCALENDAR