BEGIN:VCALENDAR
VERSION:2.0
PRODID:-//WDO - ECPv6.15.14//NONSGML v1.0//EN
CALSCALE:GREGORIAN
METHOD:PUBLISH
X-ORIGINAL-URL:https://wdo.org
X-WR-CALDESC:Events for WDO
REFRESH-INTERVAL;VALUE=DURATION:PT1H
X-Robots-Tag:noindex
X-PUBLISHED-TTL:PT1H
BEGIN:VTIMEZONE
TZID:Europe/Madrid
BEGIN:DAYLIGHT
TZOFFSETFROM:+0100
TZOFFSETTO:+0200
TZNAME:CEST
DTSTART:20250330T010000
END:DAYLIGHT
BEGIN:STANDARD
TZOFFSETFROM:+0200
TZOFFSETTO:+0100
TZNAME:CET
DTSTART:20251026T010000
END:STANDARD
BEGIN:DAYLIGHT
TZOFFSETFROM:+0100
TZOFFSETTO:+0200
TZNAME:CEST
DTSTART:20260329T010000
END:DAYLIGHT
BEGIN:STANDARD
TZOFFSETFROM:+0200
TZOFFSETTO:+0100
TZNAME:CET
DTSTART:20261025T010000
END:STANDARD
BEGIN:DAYLIGHT
TZOFFSETFROM:+0100
TZOFFSETTO:+0200
TZNAME:CEST
DTSTART:20270328T010000
END:DAYLIGHT
BEGIN:STANDARD
TZOFFSETFROM:+0200
TZOFFSETTO:+0100
TZNAME:CET
DTSTART:20271031T010000
END:STANDARD
END:VTIMEZONE
BEGIN:VEVENT
DTSTART;VALUE=DATE:20260309
DTEND;VALUE=DATE:20260917
DTSTAMP:20260423T085020
CREATED:20260317T154707Z
LAST-MODIFIED:20260317T161338Z
UID:10001096-1773014400-1789603199@wdo.org
SUMMARY:25th Andreu World Design Contest
DESCRIPTION:This year marks the 25th anniversary of the competition\, making it one of the longest-running design contests worldwide\, and to commemorate this milestone we are preparing a very special edition. \nThe challenge for this year calls for the design of a seat and/or table conceived under the principles of the circular economy and positive impact and aligned with the values that have defined Andreu World since 1955: sustainability\, innovation\, quality\, and social commitment. We firmly believe in the importance of providing opportunities to new generations to imagine and build a better future\, and on this occasion\, that purpose feels more meaningful than ever. \nLearn more: https://andreuworld.com/en/talent/design-contest \nWDO Member: Andreu World
URL:https://wdo.org/event/25th-andreu-world-design-contest/
LOCATION:Valencia\, Spain
CATEGORIES:Awards,Call for entries
ATTACH;FMTTYPE=image/png:https://wdo.org/wp-content/uploads/aw_2026.png
END:VEVENT
END:VCALENDAR