BEGIN:VCALENDAR
VERSION:2.0
PRODID:-//WDO - ECPv6.15.14//NONSGML v1.0//EN
CALSCALE:GREGORIAN
METHOD:PUBLISH
X-WR-CALNAME:WDO
X-ORIGINAL-URL:https://wdo.org
X-WR-CALDESC:Events for WDO
REFRESH-INTERVAL;VALUE=DURATION:PT1H
X-Robots-Tag:noindex
X-PUBLISHED-TTL:PT1H
BEGIN:VTIMEZONE
TZID:America/New_York
BEGIN:DAYLIGHT
TZOFFSETFROM:-0500
TZOFFSETTO:-0400
TZNAME:EDT
DTSTART:20230312T070000
END:DAYLIGHT
BEGIN:STANDARD
TZOFFSETFROM:-0400
TZOFFSETTO:-0500
TZNAME:EST
DTSTART:20231105T060000
END:STANDARD
BEGIN:DAYLIGHT
TZOFFSETFROM:-0500
TZOFFSETTO:-0400
TZNAME:EDT
DTSTART:20240310T070000
END:DAYLIGHT
BEGIN:STANDARD
TZOFFSETFROM:-0400
TZOFFSETTO:-0500
TZNAME:EST
DTSTART:20241103T060000
END:STANDARD
BEGIN:DAYLIGHT
TZOFFSETFROM:-0500
TZOFFSETTO:-0400
TZNAME:EDT
DTSTART:20250309T070000
END:DAYLIGHT
BEGIN:STANDARD
TZOFFSETFROM:-0400
TZOFFSETTO:-0500
TZNAME:EST
DTSTART:20251102T060000
END:STANDARD
END:VTIMEZONE
BEGIN:VEVENT
DTSTART;VALUE=DATE:20240918
DTEND;VALUE=DATE:20240920
DTSTAMP:20260421T095736
CREATED:20240709T134340Z
LAST-MODIFIED:20240709T134340Z
UID:10000792-1726617600-1726790399@wdo.org
SUMMARY:Around 3D Design Festival
DESCRIPTION:This year’s two day event will be themed around Digital Craftsmanship\, where we’ll cut through the noise of technology to explore how 3D tools redefine collaboration. Connect with industry experts\, dive into hands-on workshops\, and be part of the conversation on craftsmanship in digital design.
URL:https://wdo.org/event/around-3d-design-festival-2/
LOCATION:London\, United Kingdom
CATEGORIES:Festival
ATTACH;FMTTYPE=image/jpeg:https://wdo.org/wp-content/uploads/Around2024_Launch-Olive-855x480_120dpi.jpg
END:VEVENT
END:VCALENDAR