BEGIN:VCALENDAR
VERSION:2.0
PRODID:-//WDO - ECPv6.15.14//NONSGML v1.0//EN
CALSCALE:GREGORIAN
METHOD:PUBLISH
X-ORIGINAL-URL:https://wdo.org
X-WR-CALDESC:Events for WDO
REFRESH-INTERVAL;VALUE=DURATION:PT1H
X-Robots-Tag:noindex
X-PUBLISHED-TTL:PT1H
BEGIN:VTIMEZONE
TZID:Asia/Manila
BEGIN:STANDARD
TZOFFSETFROM:+0800
TZOFFSETTO:+0800
TZNAME:PST
DTSTART:20240101T000000
END:STANDARD
END:VTIMEZONE
BEGIN:VEVENT
DTSTART;VALUE=DATE:20250707
DTEND;VALUE=DATE:20250712
DTSTAMP:20260421T125152
CREATED:20250606T125213Z
LAST-MODIFIED:20250606T125213Z
UID:10000974-1751846400-1752278399@wdo.org
SUMMARY:World Industrial Design Week 2025
DESCRIPTION:’      !  \nBIND is here in every color and every hue! Watch out and save the date\, coming this  -\, ! We are back to bring you     :   !  \nLook out as   will be celebrated   ! Don’t forget to bring your blank canvases\, and prepare for a colorful week filled with our solo and panel talks\, along with our hands-on workshops that will surely fill your canvases to    !  \n       ! —         ! ️ \nFollow our socials for updates:\n️ Facebook: Benildean Industrial Designers – BIND\n️ Instagram: @bindofficial\n️ Tiktok: @bind.benilde
URL:https://wdo.org/event/world-industrial-design-week-2025/
LOCATION:Manila\, Philippines
CATEGORIES:World Industrial Design Day
ATTACH;FMTTYPE=image/jpeg:https://wdo.org/wp-content/uploads/WIDD2025_madeforhue-e1749214312960.jpg
END:VEVENT
END:VCALENDAR