BEGIN:VCALENDAR
VERSION:2.0
PRODID:-//WDO - ECPv6.15.14//NONSGML v1.0//EN
CALSCALE:GREGORIAN
METHOD:PUBLISH
X-ORIGINAL-URL:https://wdo.org
X-WR-CALDESC:Events for WDO
REFRESH-INTERVAL;VALUE=DURATION:PT1H
X-Robots-Tag:noindex
X-PUBLISHED-TTL:PT1H
BEGIN:VTIMEZONE
TZID:Europe/Berlin
BEGIN:DAYLIGHT
TZOFFSETFROM:+0100
TZOFFSETTO:+0200
TZNAME:CEST
DTSTART:20250330T010000
END:DAYLIGHT
BEGIN:STANDARD
TZOFFSETFROM:+0200
TZOFFSETTO:+0100
TZNAME:CET
DTSTART:20251026T010000
END:STANDARD
BEGIN:DAYLIGHT
TZOFFSETFROM:+0100
TZOFFSETTO:+0200
TZNAME:CEST
DTSTART:20260329T010000
END:DAYLIGHT
BEGIN:STANDARD
TZOFFSETFROM:+0200
TZOFFSETTO:+0100
TZNAME:CET
DTSTART:20261025T010000
END:STANDARD
BEGIN:DAYLIGHT
TZOFFSETFROM:+0100
TZOFFSETTO:+0200
TZNAME:CEST
DTSTART:20270328T010000
END:DAYLIGHT
BEGIN:STANDARD
TZOFFSETFROM:+0200
TZOFFSETTO:+0100
TZNAME:CET
DTSTART:20271031T010000
END:STANDARD
END:VTIMEZONE
BEGIN:VEVENT
DTSTART;VALUE=DATE:20260514
DTEND;VALUE=DATE:20260518
DTSTAMP:20260421T011650
CREATED:20251028T153231Z
LAST-MODIFIED:20251028T153231Z
UID:10001020-1778716800-1779062399@wdo.org
SUMMARY:Berlin Design Week 2026
DESCRIPTION:BERLIN DESIGN WEEK celebrates design as a driving force for solving problems – whether small or significant. In urban Berlin locations\, leading design agencies spanning product design\, interior\, architecture\, strategic branding and digital transformation come together with Next Generation designers from across Europe and international design professionals.\nThe result: Europe’s most exciting design dialogue in Berlin’s vibrant creative ecosystem. \n\n\n\n\nDESIGN REAL stands for design in all its power – aesthetically sophisticated AND solution-oriented. Design that is not only beautiful\, but solves real problems and brings about real change. Authentic in attitude\, international in effect. \nLearn more: https://berlindesignweek.com/en/
URL:https://wdo.org/event/berlin-design-week-2026/
LOCATION:Berlin\, Germany
CATEGORIES:Design week
ATTACH;FMTTYPE=image/webp:https://wdo.org/wp-content/uploads/berlindesignweek2026-e1761665412348.webp
END:VEVENT
END:VCALENDAR