BEGIN:VCALENDAR
VERSION:2.0
PRODID:-//WDO - ECPv6.15.14//NONSGML v1.0//EN
CALSCALE:GREGORIAN
METHOD:PUBLISH
X-WR-CALNAME:WDO
X-ORIGINAL-URL:https://wdo.org
X-WR-CALDESC:Events for WDO
REFRESH-INTERVAL;VALUE=DURATION:PT1H
X-Robots-Tag:noindex
X-PUBLISHED-TTL:PT1H
BEGIN:VTIMEZONE
TZID:Europe/Amsterdam
BEGIN:DAYLIGHT
TZOFFSETFROM:+0100
TZOFFSETTO:+0200
TZNAME:CEST
DTSTART:20250330T010000
END:DAYLIGHT
BEGIN:STANDARD
TZOFFSETFROM:+0200
TZOFFSETTO:+0100
TZNAME:CET
DTSTART:20251026T010000
END:STANDARD
BEGIN:DAYLIGHT
TZOFFSETFROM:+0100
TZOFFSETTO:+0200
TZNAME:CEST
DTSTART:20260329T010000
END:DAYLIGHT
BEGIN:STANDARD
TZOFFSETFROM:+0200
TZOFFSETTO:+0100
TZNAME:CET
DTSTART:20261025T010000
END:STANDARD
BEGIN:DAYLIGHT
TZOFFSETFROM:+0100
TZOFFSETTO:+0200
TZNAME:CEST
DTSTART:20270328T010000
END:DAYLIGHT
BEGIN:STANDARD
TZOFFSETFROM:+0200
TZOFFSETTO:+0100
TZNAME:CET
DTSTART:20271031T010000
END:STANDARD
END:VTIMEZONE
BEGIN:VEVENT
DTSTART;VALUE=DATE:20260414
DTEND;VALUE=DATE:20260416
DTSTAMP:20260420T061303
CREATED:20251217T175317Z
LAST-MODIFIED:20251217T175317Z
UID:10001052-1776124800-1776297599@wdo.org
SUMMARY:dmi: Design Management Conference
DESCRIPTION:In a moment of rapid transformation\, Design & Innovation Managers and Leaders have the opportunity to redefine what matters. As transformative technology expands what’s possible\, the true power of Design remains: human-centered insight\, empathy\, and vision. In 2026\, the Design Management Institute Conferences will explore how we might harness\, balance\, and direct these strengths to inspire teams\, shape strategies\, and create work that leaves a lasting mark on business\, culture\, and society. \nLearn more: https://www.dmi.org/page/DMC26
URL:https://wdo.org/event/dmi-design-management-conference/
LOCATION:Amsterdam\, Netherlands
CATEGORIES:Conference
ATTACH;FMTTYPE=image/png:https://wdo.org/wp-content/uploads/DMC2026_amsterdam.png
END:VEVENT
END:VCALENDAR