BEGIN:VCALENDAR
VERSION:2.0
PRODID:-//WDO - ECPv6.15.14//NONSGML v1.0//EN
CALSCALE:GREGORIAN
METHOD:PUBLISH
X-WR-CALNAME:WDO
X-ORIGINAL-URL:https://wdo.org
X-WR-CALDESC:Events for WDO
REFRESH-INTERVAL;VALUE=DURATION:PT1H
X-Robots-Tag:noindex
X-PUBLISHED-TTL:PT1H
BEGIN:VTIMEZONE
TZID:America/New_York
BEGIN:DAYLIGHT
TZOFFSETFROM:-0500
TZOFFSETTO:-0400
TZNAME:EDT
DTSTART:20230312T070000
END:DAYLIGHT
BEGIN:STANDARD
TZOFFSETFROM:-0400
TZOFFSETTO:-0500
TZNAME:EST
DTSTART:20231105T060000
END:STANDARD
BEGIN:DAYLIGHT
TZOFFSETFROM:-0500
TZOFFSETTO:-0400
TZNAME:EDT
DTSTART:20240310T070000
END:DAYLIGHT
BEGIN:STANDARD
TZOFFSETFROM:-0400
TZOFFSETTO:-0500
TZNAME:EST
DTSTART:20241103T060000
END:STANDARD
BEGIN:DAYLIGHT
TZOFFSETFROM:-0500
TZOFFSETTO:-0400
TZNAME:EDT
DTSTART:20250309T070000
END:DAYLIGHT
BEGIN:STANDARD
TZOFFSETFROM:-0400
TZOFFSETTO:-0500
TZNAME:EST
DTSTART:20251102T060000
END:STANDARD
END:VTIMEZONE
BEGIN:VEVENT
DTSTART;VALUE=DATE:20240615
DTEND;VALUE=DATE:20240616
DTSTAMP:20260423T151417
CREATED:20240510T140857Z
LAST-MODIFIED:20240510T140857Z
UID:10000753-1718409600-1718495999@wdo.org
SUMMARY:Festival Paradís
DESCRIPTION:Fundació del Disseny de la Comunitat Valenciana once again makes «Paradís» a reality\, a day of inspiring talks on design\, strategy and creativity\, which brings together from its first edition in 2020 to national and international speakers from different creative disciplines. \nThis year’s line up is surpassed once again and includes names such as Domestic Data Streamers\, Brutto\, NYSU\, fagerström\, Astrid Stavro\, AREA17\, El Descampao and BOL\, Tina Touli and Democracia Estudio. \nWDO Member: Fundació del Disseny de la Comunitat Valenciana
URL:https://wdo.org/event/festival-paradis/
LOCATION:Valencia\, Spain
CATEGORIES:Festival
ATTACH;FMTTYPE=image/png:https://wdo.org/wp-content/uploads/venta-entrada-1-e1715350069591.png
END:VEVENT
END:VCALENDAR