BEGIN:VCALENDAR
VERSION:2.0
PRODID:-//WDO - ECPv6.15.14//NONSGML v1.0//EN
CALSCALE:GREGORIAN
METHOD:PUBLISH
X-WR-CALNAME:WDO
X-ORIGINAL-URL:https://wdo.org
X-WR-CALDESC:Events for WDO
REFRESH-INTERVAL;VALUE=DURATION:PT1H
X-Robots-Tag:noindex
X-PUBLISHED-TTL:PT1H
BEGIN:VTIMEZONE
TZID:Asia/Kolkata
BEGIN:STANDARD
TZOFFSETFROM:+0530
TZOFFSETTO:+0530
TZNAME:IST
DTSTART:20230101T000000
END:STANDARD
END:VTIMEZONE
BEGIN:VEVENT
DTSTART;VALUE=DATE:20241119
DTEND;VALUE=DATE:20241122
DTSTAMP:20260423T105154
CREATED:20241119T144441Z
LAST-MODIFIED:20241119T144441Z
UID:10000850-1731974400-1732233599@wdo.org
SUMMARY:Bengaluru Tech Summit
DESCRIPTION:Technology not only defines how we work\, but is present in every aspect of our being. The Conference\, through its multi-stage tracks\, covers different areas of technology and its impact on human life. Over the last 26 editions\, Bengaluru Tech Summit has developed as the most important international stage for discussions\, deliberations and showcase of new technology in India. It is a space to exchange ideas\, perspectives and solutions\, while addressing future global vulnerabilities. \nThe Conference at BTS 2024 will amplify the voices of more than 400 Speakers including Global Tech Leaders\, Policymakers\, Startup Founders\, Technologists and Innovators through engaging panel discussions\, keynotes and presentation sessions spread across 6 Focus Tracks.
URL:https://wdo.org/event/bengaluru-tech-summit/
LOCATION:Bengaluru\, India
CATEGORIES:Summit
ATTACH;FMTTYPE=image/jpeg:https://wdo.org/wp-content/uploads/bengalurutechsummit.jpg
END:VEVENT
END:VCALENDAR