BEGIN:VCALENDAR
VERSION:2.0
PRODID:-//WDO - ECPv6.15.14//NONSGML v1.0//EN
CALSCALE:GREGORIAN
METHOD:PUBLISH
X-ORIGINAL-URL:https://wdo.org
X-WR-CALDESC:Events for WDO
REFRESH-INTERVAL;VALUE=DURATION:PT1H
X-Robots-Tag:noindex
X-PUBLISHED-TTL:PT1H
BEGIN:VTIMEZONE
TZID:America/New_York
BEGIN:DAYLIGHT
TZOFFSETFROM:-0500
TZOFFSETTO:-0400
TZNAME:EDT
DTSTART:20230312T070000
END:DAYLIGHT
BEGIN:STANDARD
TZOFFSETFROM:-0400
TZOFFSETTO:-0500
TZNAME:EST
DTSTART:20231105T060000
END:STANDARD
BEGIN:DAYLIGHT
TZOFFSETFROM:-0500
TZOFFSETTO:-0400
TZNAME:EDT
DTSTART:20240310T070000
END:DAYLIGHT
BEGIN:STANDARD
TZOFFSETFROM:-0400
TZOFFSETTO:-0500
TZNAME:EST
DTSTART:20241103T060000
END:STANDARD
BEGIN:DAYLIGHT
TZOFFSETFROM:-0500
TZOFFSETTO:-0400
TZNAME:EDT
DTSTART:20250309T070000
END:DAYLIGHT
BEGIN:STANDARD
TZOFFSETFROM:-0400
TZOFFSETTO:-0500
TZNAME:EST
DTSTART:20251102T060000
END:STANDARD
END:VTIMEZONE
BEGIN:VEVENT
DTSTART;VALUE=DATE:20240210
DTEND;VALUE=DATE:20240212
DTSTAMP:20260422T154244
CREATED:20230907T133343Z
LAST-MODIFIED:20230907T133824Z
UID:10000615-1707523200-1707695999@wdo.org
SUMMARY:Futuring Design Education
DESCRIPTION:Design Education Conference will be held on the 10 th and 11 th February 2024 with the aim to discuss\, reflect and debate the evolving pedagogical aspects of Design in the context of socio-cultural and technological changes at at the Department of Design\, IIT Delhi in collaboration with the IDC\, IIT Bombay. \nTrack A: Design Knowledge Transformation\nTrack B: Spaces for Design learning\nTrack C: Ecosystem of Design learning \nAbstract submission deadline for papers\, workshops\, posters: 30 Sept 2023 \nWDO Member: IDC School of Design IIT Bombay
URL:https://wdo.org/event/futuring-design-education/
LOCATION:New Delhi\, New Delhi\, India
CATEGORIES:Conference
ATTACH;FMTTYPE=image/png:https://wdo.org/wp-content/uploads/des-edu2022-b-e1694093890498.png
END:VEVENT
END:VCALENDAR