BEGIN:VCALENDAR
VERSION:2.0
PRODID:-//WDO - ECPv6.15.14//NONSGML v1.0//EN
CALSCALE:GREGORIAN
METHOD:PUBLISH
X-WR-CALNAME:WDO
X-ORIGINAL-URL:https://wdo.org
X-WR-CALDESC:Events for WDO
REFRESH-INTERVAL;VALUE=DURATION:PT1H
X-Robots-Tag:noindex
X-PUBLISHED-TTL:PT1H
BEGIN:VTIMEZONE
TZID:Europe/Madrid
BEGIN:DAYLIGHT
TZOFFSETFROM:+0100
TZOFFSETTO:+0200
TZNAME:CEST
DTSTART:20250330T010000
END:DAYLIGHT
BEGIN:STANDARD
TZOFFSETFROM:+0200
TZOFFSETTO:+0100
TZNAME:CET
DTSTART:20251026T010000
END:STANDARD
BEGIN:DAYLIGHT
TZOFFSETFROM:+0100
TZOFFSETTO:+0200
TZNAME:CEST
DTSTART:20260329T010000
END:DAYLIGHT
BEGIN:STANDARD
TZOFFSETFROM:+0200
TZOFFSETTO:+0100
TZNAME:CET
DTSTART:20261025T010000
END:STANDARD
BEGIN:DAYLIGHT
TZOFFSETFROM:+0100
TZOFFSETTO:+0200
TZNAME:CEST
DTSTART:20270328T010000
END:DAYLIGHT
BEGIN:STANDARD
TZOFFSETFROM:+0200
TZOFFSETTO:+0100
TZNAME:CET
DTSTART:20271031T010000
END:STANDARD
END:VTIMEZONE
BEGIN:VEVENT
DTSTART;VALUE=DATE:20260628
DTEND;VALUE=DATE:20260703
DTSTAMP:20260420T230655
CREATED:20251217T151152Z
LAST-MODIFIED:20251217T151152Z
UID:10001051-1782604800-1783036799@wdo.org
SUMMARY:World Congress of Architects
DESCRIPTION:A unique international event that transcends disciplinary and geographical boundaries\, the UIA World Congress of Architects 2026 Barcelona brings together renowned architects\, researchers\, and influential figures from multiple fields to promote the exchange and production of knowledge. \nWith the theme Becoming. Architectures for a planet in transition\, the event focuses on speculative\, qualitative inquiries to explore material\, political\, ecological\, and poetic interrelations. The Congress features a diverse array of events\, including lectures\, workshops\, debates\, exhibitions\, visits and celebrations\, all designed to encourage architectural dialogue and the sharing of perspectives. \nLearn more: https://uia2026bcn.org/
URL:https://wdo.org/event/world-congress-of-architects/
LOCATION:Barcelona\, Spain
CATEGORIES:Congress
ATTACH;FMTTYPE=image/jpeg:https://wdo.org/wp-content/uploads/uia2026.jpg
END:VEVENT
END:VCALENDAR