BEGIN:VCALENDAR
VERSION:2.0
PRODID:-//WDO - ECPv6.15.14//NONSGML v1.0//EN
CALSCALE:GREGORIAN
METHOD:PUBLISH
X-WR-CALNAME:WDO
X-ORIGINAL-URL:https://wdo.org
X-WR-CALDESC:Events for WDO
REFRESH-INTERVAL;VALUE=DURATION:PT1H
X-Robots-Tag:noindex
X-PUBLISHED-TTL:PT1H
BEGIN:VTIMEZONE
TZID:America/New_York
BEGIN:DAYLIGHT
TZOFFSETFROM:-0500
TZOFFSETTO:-0400
TZNAME:EDT
DTSTART:20220313T070000
END:DAYLIGHT
BEGIN:STANDARD
TZOFFSETFROM:-0400
TZOFFSETTO:-0500
TZNAME:EST
DTSTART:20221106T060000
END:STANDARD
BEGIN:DAYLIGHT
TZOFFSETFROM:-0500
TZOFFSETTO:-0400
TZNAME:EDT
DTSTART:20230312T070000
END:DAYLIGHT
BEGIN:STANDARD
TZOFFSETFROM:-0400
TZOFFSETTO:-0500
TZNAME:EST
DTSTART:20231105T060000
END:STANDARD
BEGIN:DAYLIGHT
TZOFFSETFROM:-0500
TZOFFSETTO:-0400
TZNAME:EDT
DTSTART:20240310T070000
END:DAYLIGHT
BEGIN:STANDARD
TZOFFSETFROM:-0400
TZOFFSETTO:-0500
TZNAME:EST
DTSTART:20241103T060000
END:STANDARD
END:VTIMEZONE
BEGIN:VEVENT
DTSTART;VALUE=DATE:20231101
DTEND;VALUE=DATE:20231204
DTSTAMP:20260423T205046
CREATED:20231019T131056Z
LAST-MODIFIED:20231101T133713Z
UID:10000630-1698796800-1701647999@wdo.org
SUMMARY:2023 Kaohsiung International Steel and Iron Sculpture Festival—everything is connected
DESCRIPTION:Kaohsiung as an international industrial harbor city has been organizing the KISISF since 2002. The 10th is a rite of passage for the public to not only experience the firepower of large-scale steel sculptures created on-site\, but also use contemporary sculptures to break the mindset of “steel sculpture” as a means of creation. All of works that span the spectrum of art and design present an all-compassing view of Kaohsiung’s metal fabrication\, factory soundscapes\, laborer stories\, cityscapes. \nWDO Member: Kaohsiung City Government
URL:https://wdo.org/event/2023-kaohsiung-international-steel-and-iron-sculpture-festival-everything-is-connected/
LOCATION:Kaohsiung (Taiwan\, Chinese Taipei)\, Kaohsiung\, Taiwan
CATEGORIES:Festival
ATTACH;FMTTYPE=image/jpeg:https://wdo.org/wp-content/uploads/2023KISIF-e1698845827314.jpg
END:VEVENT
END:VCALENDAR