BEGIN:VCALENDAR
VERSION:2.0
PRODID:-//WDO - ECPv6.15.14//NONSGML v1.0//EN
CALSCALE:GREGORIAN
METHOD:PUBLISH
X-ORIGINAL-URL:https://wdo.org
X-WR-CALDESC:Events for WDO
REFRESH-INTERVAL;VALUE=DURATION:PT1H
X-Robots-Tag:noindex
X-PUBLISHED-TTL:PT1H
BEGIN:VTIMEZONE
TZID:America/Los_Angeles
BEGIN:DAYLIGHT
TZOFFSETFROM:-0800
TZOFFSETTO:-0700
TZNAME:PDT
DTSTART:20240310T100000
END:DAYLIGHT
BEGIN:STANDARD
TZOFFSETFROM:-0700
TZOFFSETTO:-0800
TZNAME:PST
DTSTART:20241103T090000
END:STANDARD
BEGIN:DAYLIGHT
TZOFFSETFROM:-0800
TZOFFSETTO:-0700
TZNAME:PDT
DTSTART:20250309T100000
END:DAYLIGHT
BEGIN:STANDARD
TZOFFSETFROM:-0700
TZOFFSETTO:-0800
TZNAME:PST
DTSTART:20251102T090000
END:STANDARD
BEGIN:DAYLIGHT
TZOFFSETFROM:-0800
TZOFFSETTO:-0700
TZNAME:PDT
DTSTART:20260308T100000
END:DAYLIGHT
BEGIN:STANDARD
TZOFFSETFROM:-0700
TZOFFSETTO:-0800
TZNAME:PST
DTSTART:20261101T090000
END:STANDARD
END:VTIMEZONE
BEGIN:VEVENT
DTSTART;VALUE=DATE:20250626
DTEND;VALUE=DATE:20250630
DTSTAMP:20260421T220906
CREATED:20250606T131230Z
LAST-MODIFIED:20250606T131230Z
UID:10000975-1750896000-1751241599@wdo.org
SUMMARY:Los Angeles Design Festival 2025
DESCRIPTION:Design Futurism \nWhen envisioning the future\, design is inherently a part of our collective imagination: a tool for reimagining how we connect\, create\, and challenge existing narratives. This concept extends beyond the exploration of technological spectacle. Design Futurism is a solution-oriented exploration of human potential. \nLearn more: https://www.ladesignfestival.org/design-futurism
URL:https://wdo.org/event/los-angeles-design-festival-2025/
LOCATION:Los Angeles\, United States
CATEGORIES:Design week
ATTACH;FMTTYPE=image/jpeg:https://wdo.org/wp-content/uploads/ladesignfestival2025-e1749215537953.jpg
END:VEVENT
END:VCALENDAR