BEGIN:VCALENDAR
VERSION:2.0
PRODID:-//WDO - ECPv6.15.14//NONSGML v1.0//EN
CALSCALE:GREGORIAN
METHOD:PUBLISH
X-ORIGINAL-URL:https://wdo.org
X-WR-CALDESC:Events for WDO
REFRESH-INTERVAL;VALUE=DURATION:PT1H
X-Robots-Tag:noindex
X-PUBLISHED-TTL:PT1H
BEGIN:VTIMEZONE
TZID:Asia/Kolkata
BEGIN:STANDARD
TZOFFSETFROM:+0530
TZOFFSETTO:+0530
TZNAME:IST
DTSTART:20250101T000000
END:STANDARD
END:VTIMEZONE
BEGIN:VEVENT
DTSTART;VALUE=DATE:20260207
DTEND;VALUE=DATE:20260212
DTSTAMP:20260420T185145
CREATED:20251210T213454Z
LAST-MODIFIED:20251210T213454Z
UID:10001043-1770422400-1770854399@wdo.org
SUMMARY:Bhubaneswar Design Week
DESCRIPTION:Bhubaneswar Design Week (BDW) marks the evolution of the much-celebrated Odisha Design Week\, returning with a renewed vision to position Bhubaneswar as a thriving epicentre of creativity\, innovation\, and cultural dialogue. Tentatively scheduled for 7–11 February 2026\, BDW aims to bring together designers\, thinkers\, makers\, educators\, and citizens in a collaborative celebration of design that is rooted in regional identity while aligned with global aspirations. \nThe central theme for this edition is >“Bauhaus–to–Bharat–to–Odisha”\, tracing a powerful lineage of design philosophies — from the modernist clarity of Bauhaus\, through India’s rich design heritage\, to Odisha’s own indigenous\, evolving design language. It reflects BDW’s commitment to contextual design thinking that is both globally informed and locally grounded. \nLearn more: https://odishadesigncouncil.com/
URL:https://wdo.org/event/bhubaneswar-design-week/
LOCATION:Bhubaneswar\, India
CATEGORIES:Design week
ATTACH;FMTTYPE=image/jpeg:https://wdo.org/wp-content/uploads/odishadesignweek.jpg
END:VEVENT
END:VCALENDAR