BEGIN:VCALENDAR
VERSION:2.0
PRODID:-//WDO - ECPv6.15.14//NONSGML v1.0//EN
CALSCALE:GREGORIAN
METHOD:PUBLISH
X-ORIGINAL-URL:https://wdo.org
X-WR-CALDESC:Events for WDO
REFRESH-INTERVAL;VALUE=DURATION:PT1H
X-Robots-Tag:noindex
X-PUBLISHED-TTL:PT1H
BEGIN:VTIMEZONE
TZID:America/New_York
BEGIN:DAYLIGHT
TZOFFSETFROM:-0500
TZOFFSETTO:-0400
TZNAME:EDT
DTSTART:20220313T070000
END:DAYLIGHT
BEGIN:STANDARD
TZOFFSETFROM:-0400
TZOFFSETTO:-0500
TZNAME:EST
DTSTART:20221106T060000
END:STANDARD
BEGIN:DAYLIGHT
TZOFFSETFROM:-0500
TZOFFSETTO:-0400
TZNAME:EDT
DTSTART:20230312T070000
END:DAYLIGHT
BEGIN:STANDARD
TZOFFSETFROM:-0400
TZOFFSETTO:-0500
TZNAME:EST
DTSTART:20231105T060000
END:STANDARD
BEGIN:DAYLIGHT
TZOFFSETFROM:-0500
TZOFFSETTO:-0400
TZNAME:EDT
DTSTART:20240310T070000
END:DAYLIGHT
BEGIN:STANDARD
TZOFFSETFROM:-0400
TZOFFSETTO:-0500
TZNAME:EST
DTSTART:20241103T060000
END:STANDARD
END:VTIMEZONE
BEGIN:VEVENT
DTSTART;VALUE=DATE:20230706
DTEND;VALUE=DATE:20230804
DTSTAMP:20260422T174506
CREATED:20230704T154024Z
LAST-MODIFIED:20230704T154024Z
UID:10000591-1688601600-1691107199@wdo.org
SUMMARY:Unveiling Ceremony of Harbin Design Center  and Harbin Creative Design Festival
DESCRIPTION:Harbin Design Center is a provincial-level creative design center set up by Shenzhen Industrial Design Profession Association under the “Framework Agreement on Cooperation in Building Harbin Design Center to Promote the Development of Creative Design Industry” in accordance with the provincial authority leading and province-city-district co-construction model. It is also a platform supporting the “Four Ones” project\, which aims to build engine for promoting creative design (i.e. set up a creative design center\, hold the Lilac Creative Design Award and Harbin International Creative Design Week\, and create the ” Design Capital”). \nOn July 6\, 2023\, Harbin Design Center will hold the “Unveiling Ceremony of Harbin Design Center and Harbin Creative Design Festival” in Harbin\, Heilongjiang Province\, China. The theme of the event is “Design Cohesion · Urban Renewal”. Through Harbin Design Forum\, Reviving Design Exhibition\, Design and Industry Matchmaking Meeting\, the Conference on Founding of Heilongjiang Cultural and Tourism Creative Design Industry Association and the First “Lilac” Creative Design + Cultural and Tourism Integration Development Forum\, Innovative Design Journey and other major activities\, the event will gather advanced creative design forces and cutting-edge design trends at home and abroad\, accelerate the empowerment of Harbin’s products\, industries\, and urban upgrading with the power of creative design\, drive the creative design industry towards a fast lane.
URL:https://wdo.org/event/unveiling-ceremony-of-harbin-design-center-and-harbin-creative-design-festival/
CATEGORIES:Festival
ATTACH;FMTTYPE=image/jpeg:https://wdo.org/wp-content/uploads/harbin-e1688485195357.jpg
END:VEVENT
END:VCALENDAR