BEGIN:VCALENDAR
VERSION:2.0
PRODID:-//WDO - ECPv6.15.14//NONSGML v1.0//EN
CALSCALE:GREGORIAN
METHOD:PUBLISH
X-WR-CALNAME:WDO
X-ORIGINAL-URL:https://wdo.org
X-WR-CALDESC:Events for WDO
REFRESH-INTERVAL;VALUE=DURATION:PT1H
X-Robots-Tag:noindex
X-PUBLISHED-TTL:PT1H
BEGIN:VTIMEZONE
TZID:Europe/Rome
BEGIN:DAYLIGHT
TZOFFSETFROM:+0100
TZOFFSETTO:+0200
TZNAME:CEST
DTSTART:20240331T010000
END:DAYLIGHT
BEGIN:STANDARD
TZOFFSETFROM:+0200
TZOFFSETTO:+0100
TZNAME:CET
DTSTART:20241027T010000
END:STANDARD
BEGIN:DAYLIGHT
TZOFFSETFROM:+0100
TZOFFSETTO:+0200
TZNAME:CEST
DTSTART:20250330T010000
END:DAYLIGHT
BEGIN:STANDARD
TZOFFSETFROM:+0200
TZOFFSETTO:+0100
TZNAME:CET
DTSTART:20251026T010000
END:STANDARD
BEGIN:DAYLIGHT
TZOFFSETFROM:+0100
TZOFFSETTO:+0200
TZNAME:CEST
DTSTART:20260329T010000
END:DAYLIGHT
BEGIN:STANDARD
TZOFFSETFROM:+0200
TZOFFSETTO:+0100
TZNAME:CET
DTSTART:20261025T010000
END:STANDARD
END:VTIMEZONE
BEGIN:VEVENT
DTSTART;VALUE=DATE:20251011
DTEND;VALUE=DATE:20251020
DTSTAMP:20260422T074459
CREATED:20250117T212625Z
LAST-MODIFIED:20250117T212625Z
UID:10000885-1760140800-1760918399@wdo.org
SUMMARY:Venice Design Week: Tempora
DESCRIPTION:Venice Design Week is the festival dedicated to design held in the city of Venice\, every October since 2010. For a week\, the lagoon of Venice comes alive with exhibitions\, conferences and meetings\, competitions\, workshops and guided tours that take place in a unique setting\, full of history and contemporaneity\, in a continuous exchange between cultures meeting and mutual comparison. VDW is a widespread event\, in symbiosis with the city that hosts it\, and that winds its way through calli and campielli\, private galleries and museums\, homes and artists’ studios\, stores and workshops. \nVenice Design Week is also an unmissable opportunity for connection and dialogue between established and emerging designers\, international companies\, artisans\, architects and a curious and passionate public.
URL:https://wdo.org/event/venice-design-week-tempora/
LOCATION:Venice\, Italy
CATEGORIES:Design week
ATTACH;FMTTYPE=image/jpeg:https://wdo.org/wp-content/uploads/venicedesignweek-e1737149156124.jpg
END:VEVENT
END:VCALENDAR