BEGIN:VCALENDAR
VERSION:2.0
PRODID:-//WDO - ECPv6.15.14//NONSGML v1.0//EN
CALSCALE:GREGORIAN
METHOD:PUBLISH
X-WR-CALNAME:WDO
X-ORIGINAL-URL:https://wdo.org
X-WR-CALDESC:Events for WDO
REFRESH-INTERVAL;VALUE=DURATION:PT1H
X-Robots-Tag:noindex
X-PUBLISHED-TTL:PT1H
BEGIN:VTIMEZONE
TZID:America/New_York
BEGIN:DAYLIGHT
TZOFFSETFROM:-0500
TZOFFSETTO:-0400
TZNAME:EDT
DTSTART:20250309T070000
END:DAYLIGHT
BEGIN:STANDARD
TZOFFSETFROM:-0400
TZOFFSETTO:-0500
TZNAME:EST
DTSTART:20251102T060000
END:STANDARD
BEGIN:DAYLIGHT
TZOFFSETFROM:-0500
TZOFFSETTO:-0400
TZNAME:EDT
DTSTART:20260308T070000
END:DAYLIGHT
BEGIN:STANDARD
TZOFFSETFROM:-0400
TZOFFSETTO:-0500
TZNAME:EST
DTSTART:20261101T060000
END:STANDARD
BEGIN:DAYLIGHT
TZOFFSETFROM:-0500
TZOFFSETTO:-0400
TZNAME:EDT
DTSTART:20270314T070000
END:DAYLIGHT
BEGIN:STANDARD
TZOFFSETFROM:-0400
TZOFFSETTO:-0500
TZNAME:EST
DTSTART:20271107T060000
END:STANDARD
END:VTIMEZONE
BEGIN:VEVENT
DTSTART;TZID=America/New_York:20260422T080000
DTEND;TZID=America/New_York:20260422T090000
DTSTAMP:20260420T114959
CREATED:20260305T164224Z
LAST-MODIFIED:20260324T142630Z
UID:10001080-1776844800-1776848400@wdo.org
SUMMARY:DESIGN CODES: A Co-Design Working Session
DESCRIPTION:Design Codes will only be meaningful if they reflect lived practice and diverse global contexts. WDO Members are invited to join an interactive working session to help shape the next iteration of the Design Codes. \nBuilding on the presentation shared at the General Assembly in September 2025\, this session will briefly recap the framework and open discussion for critique\, reflection\, and practical input ahead of the June 2026 milestone. \nJoin us to help co-design the principles that will guide design worldwide. \nVisit https://wdo.org/programmes/special-projects/designcodes/ to review background material. \nRegister today: https://us02web.zoom.us/meeting/register/60PZBMyORuib5tnlk-BJuA
URL:https://wdo.org/event/design-codes-a-co-design-working-session/
LOCATION:Online
CATEGORIES:WDO event,WDO Member Webinar
ATTACH;FMTTYPE=image/webp:https://wdo.org/wp-content/uploads/designcodes.webp
END:VEVENT
BEGIN:VEVENT
DTSTART;TZID=America/New_York:20260505T170000
DTEND;TZID=America/New_York:20260505T200000
DTSTAMP:20260420T114959
CREATED:20260413T194152Z
LAST-MODIFIED:20260413T194315Z
UID:10001108-1778000400-1778011200@wdo.org
SUMMARY:From Tradition to Transformation: Cities\, Design & Montréal
DESCRIPTION:What does design mean for cities today? \nAs part of Semaine Design de Montréal\, join World Design Organization at the MEM – Centre des mémoires montréalaises for a special screening of its first documentary short\, From Tradition to Transformation: World Design Capital Valencia 2022 (Spanish with English subtitles). The 40-minute film offers a powerful look into how design shapes a city’s identity\, culture and everyday life. \nThe screening will be followed by a panel discussion on the future of design-led urban transformation\, and an opportunity to network with Montreal’s creative community. Your ticket includes one drink. \nRegister now: https://www.zeffy.com/en-CA/ticketing/from-tradition-to-transformation-cities-design-and-montreal \nHosted by: World Design Organization
URL:https://wdo.org/event/from-tradition-to-transformation-cities-design-montreal/
LOCATION:Montreal\, Canada
CATEGORIES:Design week,WDO event
ATTACH;FMTTYPE=image/webp:https://wdo.org/wp-content/uploads/mem_calendar.webp
END:VEVENT
BEGIN:VEVENT
DTSTART;TZID=America/New_York:20260602T080000
DTEND;TZID=America/New_York:20260602T084500
DTSTAMP:20260420T114959
CREATED:20260130T151924Z
LAST-MODIFIED:20260413T193400Z
UID:10001068-1780387200-1780389900@wdo.org
SUMMARY:WDO Member Mixer
DESCRIPTION:WDO Member Mixer is a virtual networking initiative designed exclusively for WDO’s membership community. This global session will offer space for both new and longstanding members alike to connect\, converse and build relationships across regions and disciplines. 
URL:https://wdo.org/event/wdomembermixer-jun2026/
LOCATION:Online
CATEGORIES:WDO Member Webinar
ATTACH;FMTTYPE=image/png:https://wdo.org/wp-content/uploads/membermixer_jun2026.png
END:VEVENT
BEGIN:VEVENT
DTSTART;TZID=America/New_York:20261001T080000
DTEND;TZID=America/New_York:20261001T084500
DTSTAMP:20260420T114959
CREATED:20260130T152809Z
LAST-MODIFIED:20260413T193456Z
UID:10001069-1790841600-1790844300@wdo.org
SUMMARY:WDO Member Mixer
DESCRIPTION:WDO Member Mixer is a virtual networking initiative designed exclusively for WDO’s membership community. This global session will offer space for both new and longstanding members alike to connect\, converse and build relationships across regions and disciplines.
URL:https://wdo.org/event/wdomembermixer-oct2026/
LOCATION:Online
CATEGORIES:WDO Member Webinar
ATTACH;FMTTYPE=image/png:https://wdo.org/wp-content/uploads/membermixer_oct2026.png
END:VEVENT
END:VCALENDAR