BEGIN:VCALENDAR
VERSION:2.0
PRODID:-//WDO - ECPv6.15.14//NONSGML v1.0//EN
CALSCALE:GREGORIAN
METHOD:PUBLISH
X-ORIGINAL-URL:https://wdo.org
X-WR-CALDESC:Events for WDO
REFRESH-INTERVAL;VALUE=DURATION:PT1H
X-Robots-Tag:noindex
X-PUBLISHED-TTL:PT1H
BEGIN:VTIMEZONE
TZID:Europe/Amsterdam
BEGIN:DAYLIGHT
TZOFFSETFROM:+0100
TZOFFSETTO:+0200
TZNAME:CEST
DTSTART:20250330T010000
END:DAYLIGHT
BEGIN:STANDARD
TZOFFSETFROM:+0200
TZOFFSETTO:+0100
TZNAME:CET
DTSTART:20251026T010000
END:STANDARD
BEGIN:DAYLIGHT
TZOFFSETFROM:+0100
TZOFFSETTO:+0200
TZNAME:CEST
DTSTART:20260329T010000
END:DAYLIGHT
BEGIN:STANDARD
TZOFFSETFROM:+0200
TZOFFSETTO:+0100
TZNAME:CET
DTSTART:20261025T010000
END:STANDARD
BEGIN:DAYLIGHT
TZOFFSETFROM:+0100
TZOFFSETTO:+0200
TZNAME:CEST
DTSTART:20270328T010000
END:DAYLIGHT
BEGIN:STANDARD
TZOFFSETFROM:+0200
TZOFFSETTO:+0100
TZNAME:CET
DTSTART:20271031T010000
END:STANDARD
END:VTIMEZONE
BEGIN:VTIMEZONE
TZID:America/New_York
BEGIN:DAYLIGHT
TZOFFSETFROM:-0500
TZOFFSETTO:-0400
TZNAME:EDT
DTSTART:20210314T070000
END:DAYLIGHT
BEGIN:STANDARD
TZOFFSETFROM:-0400
TZOFFSETTO:-0500
TZNAME:EST
DTSTART:20211107T060000
END:STANDARD
BEGIN:DAYLIGHT
TZOFFSETFROM:-0500
TZOFFSETTO:-0400
TZNAME:EDT
DTSTART:20220313T070000
END:DAYLIGHT
BEGIN:STANDARD
TZOFFSETFROM:-0400
TZOFFSETTO:-0500
TZNAME:EST
DTSTART:20221106T060000
END:STANDARD
BEGIN:DAYLIGHT
TZOFFSETFROM:-0500
TZOFFSETTO:-0400
TZNAME:EDT
DTSTART:20230312T070000
END:DAYLIGHT
BEGIN:STANDARD
TZOFFSETFROM:-0400
TZOFFSETTO:-0500
TZNAME:EST
DTSTART:20231105T060000
END:STANDARD
BEGIN:DAYLIGHT
TZOFFSETFROM:-0500
TZOFFSETTO:-0400
TZNAME:EDT
DTSTART:20240310T070000
END:DAYLIGHT
BEGIN:STANDARD
TZOFFSETFROM:-0400
TZOFFSETTO:-0500
TZNAME:EST
DTSTART:20241103T060000
END:STANDARD
BEGIN:DAYLIGHT
TZOFFSETFROM:-0500
TZOFFSETTO:-0400
TZNAME:EDT
DTSTART:20250309T070000
END:DAYLIGHT
BEGIN:STANDARD
TZOFFSETFROM:-0400
TZOFFSETTO:-0500
TZNAME:EST
DTSTART:20251102T060000
END:STANDARD
END:VTIMEZONE
BEGIN:VEVENT
DTSTART;VALUE=DATE:20260414
DTEND;VALUE=DATE:20260416
DTSTAMP:20260423T090833
CREATED:20251217T175317Z
LAST-MODIFIED:20251217T175317Z
UID:10001052-1776124800-1776297599@wdo.org
SUMMARY:dmi: Design Management Conference
DESCRIPTION:In a moment of rapid transformation\, Design & Innovation Managers and Leaders have the opportunity to redefine what matters. As transformative technology expands what’s possible\, the true power of Design remains: human-centered insight\, empathy\, and vision. In 2026\, the Design Management Institute Conferences will explore how we might harness\, balance\, and direct these strengths to inspire teams\, shape strategies\, and create work that leaves a lasting mark on business\, culture\, and society. \nLearn more: https://www.dmi.org/page/DMC26
URL:https://wdo.org/event/dmi-design-management-conference/
LOCATION:Amsterdam\, Netherlands
CATEGORIES:Conference
ATTACH;FMTTYPE=image/png:https://wdo.org/wp-content/uploads/DMC2026_amsterdam.png
END:VEVENT
BEGIN:VEVENT
DTSTART;VALUE=DATE:20240916
DTEND;VALUE=DATE:20240921
DTSTAMP:20260423T090833
CREATED:20240409T131701Z
LAST-MODIFIED:20240409T131701Z
UID:10000725-1726444800-1726876799@wdo.org
SUMMARY:Creative Skills Week 2024
DESCRIPTION:As proud partners in the SACCORD project\, BEDA is excited to announce the launch of the second edition of CREATIVE SKILLS WEEK. In association with the Blueprint Project CYANOTYPES\, we invite you to actively participate in shaping and steering discussion around skills\, addressing gaps\, and opportunities for upskilling\, and to start shaping strategic skills for future creatives. \nJoin our active community who believe in the power of creativity\, skilling and learning from 16 – 20 September 2024 (in person and online). This event is kindly hosted by the Conservatorium van Amsterdam\, Amsterdam University of Arts.
URL:https://wdo.org/event/creative-skills-week-2024/
LOCATION:Amsterdam\, Netherlands
CATEGORIES:Design week
ATTACH;FMTTYPE=image/jpeg:https://wdo.org/wp-content/uploads/creativeskillsweek-e1712668608439.jpg
END:VEVENT
BEGIN:VEVENT
DTSTART;VALUE=DATE:20220608
DTEND;VALUE=DATE:20220609
DTSTAMP:20260423T090833
CREATED:20220519T160005Z
LAST-MODIFIED:20220519T160117Z
UID:10000317-1654646400-1654732799@wdo.org
SUMMARY:CIRCULAR SHIFT 2022 AMSTERDAM
DESCRIPTION:Circular Shift 2022 is the Cradle to Cradle Products Innovation Institute’s annual summit\, providing a forum for leading professionals from business\, policy\, finance and other stakeholder groups to unite\, share and learn from each other.  \nWebsite
URL:https://wdo.org/event/circular-shift-2022-amsterdam/
LOCATION:Amsterdam\, Netherlands
CATEGORIES:Forum
ATTACH;FMTTYPE=image/jpeg:https://wdo.org/wp-content/uploads/cradle.jpg
END:VEVENT
BEGIN:VEVENT
DTSTART;VALUE=DATE:20220603
DTEND;VALUE=DATE:20220604
DTSTAMP:20260423T090833
CREATED:20220401T173723Z
LAST-MODIFIED:20220401T173907Z
UID:10000472-1654214400-1654300799@wdo.org
SUMMARY:WHAT DESIGN CAN DO LIVE 2022
DESCRIPTION:On 3 June 2022\, join What Design Can Do at the International Theater Amsterdam for a day of fresh talks and workshops on the intersection of design\, climate action and social justice. All tickets to WDCD Live 2022 include: A seat at the main stage talks by leading international speakers\, an interactive breakout session on a range of topics\, coffee\, tea & a vegan lunch to keep you fuelled\, a voucher for a free drink at the afterparty. Check out the full programme here\, and remember — capacity is limited\, so be sure to grab your tickets quickly! \nWebsite
URL:https://wdo.org/event/what-design-can-do-live-2022/
LOCATION:Amsterdam\, Netherlands
CATEGORIES:Festival
ATTACH;FMTTYPE=image/jpeg:https://wdo.org/wp-content/uploads/whatdesigncando2.jpg
END:VEVENT
END:VCALENDAR