BEGIN:VCALENDAR
VERSION:2.0
PRODID:-//WDO - ECPv6.15.14//NONSGML v1.0//EN
CALSCALE:GREGORIAN
METHOD:PUBLISH
X-ORIGINAL-URL:https://wdo.org
X-WR-CALDESC:Events for WDO
REFRESH-INTERVAL;VALUE=DURATION:PT1H
X-Robots-Tag:noindex
X-PUBLISHED-TTL:PT1H
BEGIN:VTIMEZONE
TZID:America/New_York
BEGIN:DAYLIGHT
TZOFFSETFROM:-0500
TZOFFSETTO:-0400
TZNAME:EDT
DTSTART:20250309T070000
END:DAYLIGHT
BEGIN:STANDARD
TZOFFSETFROM:-0400
TZOFFSETTO:-0500
TZNAME:EST
DTSTART:20251102T060000
END:STANDARD
BEGIN:DAYLIGHT
TZOFFSETFROM:-0500
TZOFFSETTO:-0400
TZNAME:EDT
DTSTART:20260308T070000
END:DAYLIGHT
BEGIN:STANDARD
TZOFFSETFROM:-0400
TZOFFSETTO:-0500
TZNAME:EST
DTSTART:20261101T060000
END:STANDARD
BEGIN:DAYLIGHT
TZOFFSETFROM:-0500
TZOFFSETTO:-0400
TZNAME:EDT
DTSTART:20270314T070000
END:DAYLIGHT
BEGIN:STANDARD
TZOFFSETFROM:-0400
TZOFFSETTO:-0500
TZNAME:EST
DTSTART:20271107T060000
END:STANDARD
END:VTIMEZONE
BEGIN:VEVENT
DTSTART;VALUE=DATE:20260512
DTEND;VALUE=DATE:20260514
DTSTAMP:20260420T050442
CREATED:20251217T175845Z
LAST-MODIFIED:20251217T175934Z
UID:10001053-1778544000-1778716799@wdo.org
SUMMARY:dmi: New Voices Shaping Design Futures
DESCRIPTION:Join dmi: at this forward-thinking New Voices Shaping Design Futures (NV26) for a rich\, fun\, 2-days of learning and networking. Diverse thought leaders and experts from various industries and organizations\, come together to address and discuss evolving challenges\, emerging frontiers\, and the future of innovation\, equipping emerging and experienced Design Leaders with the insights needed to navigate change and lead with agility in a dynamic landscape. \nThis conference is open to ALL who wish to learn and share around these important topics. \nLearn more: https://www.dmi.org/page/NV26
URL:https://wdo.org/event/dmi-new-voices-shaping-design-futures/
LOCATION:Arlington\, United States
CATEGORIES:Conference
ATTACH;FMTTYPE=image/png:https://wdo.org/wp-content/uploads/NV2026.png
END:VEVENT
END:VCALENDAR