BEGIN:VCALENDAR
VERSION:2.0
PRODID:-//WDO - ECPv6.15.14//NONSGML v1.0//EN
CALSCALE:GREGORIAN
METHOD:PUBLISH
X-WR-CALNAME:WDO
X-ORIGINAL-URL:https://wdo.org
X-WR-CALDESC:Events for WDO
REFRESH-INTERVAL;VALUE=DURATION:PT1H
X-Robots-Tag:noindex
X-PUBLISHED-TTL:PT1H
BEGIN:VTIMEZONE
TZID:America/New_York
BEGIN:DAYLIGHT
TZOFFSETFROM:-0500
TZOFFSETTO:-0400
TZNAME:EDT
DTSTART:20220313T070000
END:DAYLIGHT
BEGIN:STANDARD
TZOFFSETFROM:-0400
TZOFFSETTO:-0500
TZNAME:EST
DTSTART:20221106T060000
END:STANDARD
BEGIN:DAYLIGHT
TZOFFSETFROM:-0500
TZOFFSETTO:-0400
TZNAME:EDT
DTSTART:20230312T070000
END:DAYLIGHT
BEGIN:STANDARD
TZOFFSETFROM:-0400
TZOFFSETTO:-0500
TZNAME:EST
DTSTART:20231105T060000
END:STANDARD
BEGIN:DAYLIGHT
TZOFFSETFROM:-0500
TZOFFSETTO:-0400
TZNAME:EDT
DTSTART:20240310T070000
END:DAYLIGHT
BEGIN:STANDARD
TZOFFSETFROM:-0400
TZOFFSETTO:-0500
TZNAME:EST
DTSTART:20241103T060000
END:STANDARD
BEGIN:DAYLIGHT
TZOFFSETFROM:-0500
TZOFFSETTO:-0400
TZNAME:EDT
DTSTART:20250309T070000
END:DAYLIGHT
BEGIN:STANDARD
TZOFFSETFROM:-0400
TZOFFSETTO:-0500
TZNAME:EST
DTSTART:20251102T060000
END:STANDARD
BEGIN:DAYLIGHT
TZOFFSETFROM:-0500
TZOFFSETTO:-0400
TZNAME:EDT
DTSTART:20260308T070000
END:DAYLIGHT
BEGIN:STANDARD
TZOFFSETFROM:-0400
TZOFFSETTO:-0500
TZNAME:EST
DTSTART:20261101T060000
END:STANDARD
END:VTIMEZONE
BEGIN:VEVENT
DTSTART;VALUE=DATE:20250203
DTEND;VALUE=DATE:20250510
DTSTAMP:20260424T045620
CREATED:20250206T140904Z
LAST-MODIFIED:20250206T140904Z
UID:10000893-1738540800-1746835199@wdo.org
SUMMARY:International Busan Design Award
DESCRIPTION:Design Council Busan presents the 2025 International Busan Design Award (IBDA)\, fostering innovation\, industry growth\, and global design exchanges. \nEntries are divided into General and Youth divisions under an open theme. Judging includes online screening and offline evaluation with physical submissions. \nThe award ceremony and exhibition will be held during Busan Design Festival (June 26–29) at BEXCO. \nWe look forward to seeing your design ideas at the 2025 IBDA and Busan Design Festival! \nWDO Member: Design Council Busan
URL:https://wdo.org/event/international-busan-design-award/
LOCATION:Busan (Republic of Korea)\, Busan\, Korea\, Republic of
CATEGORIES:Awards
ATTACH;FMTTYPE=image/jpeg:https://wdo.org/wp-content/uploads/WDO-855-x-480_ibda_2025_01.jpg
END:VEVENT
BEGIN:VEVENT
DTSTART;VALUE=DATE:20240201
DTEND;VALUE=DATE:20240508
DTSTAMP:20260424T045620
CREATED:20240209T142816Z
LAST-MODIFIED:20240209T142816Z
UID:10000698-1706745600-1715126399@wdo.org
SUMMARY:2024 International Busan Design Award
DESCRIPTION:The International Busan Design Award(ibda) is an international event developed and is used as a forum for sharing various design concepts through international design industry exchanges and restoration. The entries are for the under-18s and the general public\, including design students\, designers\, and organizations for free themes. The awards ceremony\, the main event of Busan Design Week\, will take place on June 13 The submission date for entries is May 7\, 2024.Stay tuned for our latest updates!\n \nWDO Member: Design Council Busan
URL:https://wdo.org/event/2024-international-busan-design-award/
LOCATION:Busan (Republic of Korea)\, Busan\, Korea\, Republic of
CATEGORIES:Awards
ATTACH;FMTTYPE=image/jpeg:https://wdo.org/wp-content/uploads/WDO_2024-ibda.jpg
END:VEVENT
BEGIN:VEVENT
DTSTART;VALUE=DATE:20230206
DTEND;VALUE=DATE:20230509
DTSTAMP:20260424T045620
CREATED:20230201T211105Z
LAST-MODIFIED:20230201T214003Z
UID:10000534-1675641600-1683590399@wdo.org
SUMMARY:2023 International Busan Design Award
DESCRIPTION:The International Busan Design Award is an international event developed and is used as a forum for sharing various design concepts through international design industry exchanges and restorations. Apart from the main theme(free)\, a special theme wishing for the World EXPO 2030 Busan Korea attracts designers around the world and provides an opportunity to commercialize the winning works. \nWebsite \nWDO Member: Design Council Busan
URL:https://wdo.org/event/2023-international-busan-design-award/
LOCATION:Busan (Republic of Korea)\, Busan\, Korea\, Republic of
CATEGORIES:Awards
ATTACH;FMTTYPE=image/jpeg:https://wdo.org/wp-content/uploads/WDO_2023-ibda.jpeg
END:VEVENT
END:VCALENDAR