BEGIN:VCALENDAR
VERSION:2.0
PRODID:-//WDO - ECPv6.15.14//NONSGML v1.0//EN
CALSCALE:GREGORIAN
METHOD:PUBLISH
X-ORIGINAL-URL:https://wdo.org
X-WR-CALDESC:Events for WDO
REFRESH-INTERVAL;VALUE=DURATION:PT1H
X-Robots-Tag:noindex
X-PUBLISHED-TTL:PT1H
BEGIN:VTIMEZONE
TZID:Asia/Seoul
BEGIN:STANDARD
TZOFFSETFROM:+0900
TZOFFSETTO:+0900
TZNAME:KST
DTSTART:20240101T000000
END:STANDARD
END:VTIMEZONE
BEGIN:VEVENT
DTSTART;VALUE=DATE:20251112
DTEND;VALUE=DATE:20251117
DTSTAMP:20260422T154048
CREATED:20250303T151019Z
LAST-MODIFIED:20250303T151019Z
UID:10000903-1762905600-1763337599@wdo.org
SUMMARY:Design Korea 2025
DESCRIPTION:‘Design Korea’ was the motto of ‘The 1st Industrial Design Promotion Competition’ held in 1999. After successfully hosting the International Council of Graphic Design Association (ICOGRADA) and the International Council of Industrial Design (ICSID)\, ‘Design Korea’ went beyond the motto to become an identity of Korean Design. And in 2003\, the 1st Design Korea\, a national design industry exposition\, began. It was held in Beijing in 2004\, followed by one in 2006 and another in 2008 in Guangzhou in the name of ‘Design Korea’. For a regionally-balanced development of design\, Design Korea was held in Incheon\, Daegu and Gwangju. It was also held as a festival to be enjoyed by all citizens. \nIn 2025\, Design Korea will celebrate its 23th anniversary. Design Korea has gone through various roles and transformations – and will move on to grow as an innovative design business platform of Korea. \nWDO Member: Korea Institute of Design Promotion
URL:https://wdo.org/event/design-korea-2025/
LOCATION:COEX Hall D\, Seoul\, Korea\, Republic of
CATEGORIES:Trade show/Fair
ATTACH;FMTTYPE=image/jpeg:https://wdo.org/wp-content/uploads/designkorea2025.jpg
END:VEVENT
END:VCALENDAR