BEGIN:VCALENDAR
VERSION:2.0
PRODID:-//WDO - ECPv6.15.14//NONSGML v1.0//EN
CALSCALE:GREGORIAN
METHOD:PUBLISH
X-WR-CALNAME:WDO
X-ORIGINAL-URL:https://wdo.org
X-WR-CALDESC:Events for WDO
REFRESH-INTERVAL;VALUE=DURATION:PT1H
X-Robots-Tag:noindex
X-PUBLISHED-TTL:PT1H
BEGIN:VTIMEZONE
TZID:Asia/Shanghai
BEGIN:STANDARD
TZOFFSETFROM:+0800
TZOFFSETTO:+0800
TZNAME:CST
DTSTART:20230101T000000
END:STANDARD
END:VTIMEZONE
BEGIN:VEVENT
DTSTART;VALUE=DATE:20240918
DTEND;VALUE=DATE:20240921
DTSTAMP:20260421T102429
CREATED:20240809T150701Z
LAST-MODIFIED:20240809T150701Z
UID:10000806-1726617600-1726876799@wdo.org
SUMMARY:The 2nd World Ceramic Design Conference Dehua China
DESCRIPTION:In 2024\, the 2th World Ceramic Design Conference Dehua China will collaborate with key ceramic production areas worldwide to build an international exchange platform for ceramic design innovation. This event aims to establish a broader the World Ceramics Design Intelligence Union\, inviting leading figures from the global ceramic industry and design community to join\, fully leveraging the expertise of the World Capital of Ceramics.\n \nWDO Member: Quanzhou Industrial Design Association
URL:https://wdo.org/event/the-2nd-world-ceramic-design-conference-dehua-china/
LOCATION:Dehua\, Dehua\, Quanzhou\, China
CATEGORIES:Conference
ATTACH;FMTTYPE=image/jpeg:https://wdo.org/wp-content/uploads/The-main-visual-poster-scaled-e1723216001600.jpg
END:VEVENT
END:VCALENDAR