BEGIN:VCALENDAR
VERSION:2.0
PRODID:-//WDO - ECPv6.15.14//NONSGML v1.0//EN
CALSCALE:GREGORIAN
METHOD:PUBLISH
X-WR-CALNAME:WDO
X-ORIGINAL-URL:https://wdo.org
X-WR-CALDESC:Events for WDO
REFRESH-INTERVAL;VALUE=DURATION:PT1H
X-Robots-Tag:noindex
X-PUBLISHED-TTL:PT1H
BEGIN:VTIMEZONE
TZID:America/New_York
BEGIN:DAYLIGHT
TZOFFSETFROM:-0500
TZOFFSETTO:-0400
TZNAME:EDT
DTSTART:20240310T070000
END:DAYLIGHT
BEGIN:STANDARD
TZOFFSETFROM:-0400
TZOFFSETTO:-0500
TZNAME:EST
DTSTART:20241103T060000
END:STANDARD
BEGIN:DAYLIGHT
TZOFFSETFROM:-0500
TZOFFSETTO:-0400
TZNAME:EDT
DTSTART:20250309T070000
END:DAYLIGHT
BEGIN:STANDARD
TZOFFSETFROM:-0400
TZOFFSETTO:-0500
TZNAME:EST
DTSTART:20251102T060000
END:STANDARD
BEGIN:DAYLIGHT
TZOFFSETFROM:-0500
TZOFFSETTO:-0400
TZNAME:EDT
DTSTART:20260308T070000
END:DAYLIGHT
BEGIN:STANDARD
TZOFFSETFROM:-0400
TZOFFSETTO:-0500
TZNAME:EST
DTSTART:20261101T060000
END:STANDARD
END:VTIMEZONE
BEGIN:VEVENT
DTSTART;VALUE=DATE:20250407
DTEND;VALUE=DATE:20250414
DTSTAMP:20260422T085330
CREATED:20250305T145940Z
LAST-MODIFIED:20250305T145940Z
UID:10000908-1743984000-1744588799@wdo.org
SUMMARY:Tigullio Design District - TDD
DESCRIPTION:Tigullio Design District – TDD is the first international event organized in Liguria\, Italy\, dedicated to design and specifically to major themes related to the sea and nautic\, the outdoor and obviously lifestyle\, being developed in the splendid scenery of Gulf of Tigullio\, between Genoa and the 5 lands. A new design location for all professional around the world want enjoy the Milan Design Week days also at the sea side.
URL:https://wdo.org/event/tigullio-design-district-tdd/
LOCATION:Gulf of Tigullio\, Portofino Coast\, Italy
CATEGORIES:Design week
ATTACH;FMTTYPE=image/png:https://wdo.org/wp-content/uploads/TDD2025-poster.png
END:VEVENT
END:VCALENDAR