BEGIN:VCALENDAR
VERSION:2.0
PRODID:-//WDO - ECPv6.15.14//NONSGML v1.0//EN
CALSCALE:GREGORIAN
METHOD:PUBLISH
X-ORIGINAL-URL:https://wdo.org
X-WR-CALDESC:Events for WDO
REFRESH-INTERVAL;VALUE=DURATION:PT1H
X-Robots-Tag:noindex
X-PUBLISHED-TTL:PT1H
BEGIN:VTIMEZONE
TZID:Europe/Paris
BEGIN:DAYLIGHT
TZOFFSETFROM:+0100
TZOFFSETTO:+0200
TZNAME:CEST
DTSTART:20250330T010000
END:DAYLIGHT
BEGIN:STANDARD
TZOFFSETFROM:+0200
TZOFFSETTO:+0100
TZNAME:CET
DTSTART:20251026T010000
END:STANDARD
BEGIN:DAYLIGHT
TZOFFSETFROM:+0100
TZOFFSETTO:+0200
TZNAME:CEST
DTSTART:20260329T010000
END:DAYLIGHT
BEGIN:STANDARD
TZOFFSETFROM:+0200
TZOFFSETTO:+0100
TZNAME:CET
DTSTART:20261025T010000
END:STANDARD
BEGIN:DAYLIGHT
TZOFFSETFROM:+0100
TZOFFSETTO:+0200
TZNAME:CEST
DTSTART:20270328T010000
END:DAYLIGHT
BEGIN:STANDARD
TZOFFSETFROM:+0200
TZOFFSETTO:+0100
TZNAME:CET
DTSTART:20271031T010000
END:STANDARD
END:VTIMEZONE
BEGIN:VEVENT
DTSTART;VALUE=DATE:20260420
DTEND;VALUE=DATE:20260427
DTSTAMP:20260422T073051
CREATED:20260326T202605Z
LAST-MODIFIED:20260326T202605Z
UID:10001100-1776643200-1777247999@wdo.org
SUMMARY:Tigullio Design District
DESCRIPTION:The Liguria Design Cultural Association organizes the Tigullio Design District (TDD)\, the first international event dedicated to nautical\, outdoor\, and lifestyle design in the Gulf of Tigullio ( Portofino in Liguria – Italy ). Supported by regional institutions\, TDD promotes Ligurian design and territory\, creating cultural\, economic\, and identity value while positioning Liguria on the global stage\, as district of Milan Design Week\, but “sea side area” for the lovers of italian lifestyle. \nLearn more: https://tigulliodesigndistrict.com/
URL:https://wdo.org/event/tigullio-design-district-3/
LOCATION:Gulf of Tigullio\, Portofino Coast\, Italy
CATEGORIES:Design week
ATTACH;FMTTYPE=image/webp:https://wdo.org/wp-content/uploads/tigulliodesigndistrict_2026.webp
END:VEVENT
END:VCALENDAR