BEGIN:VCALENDAR
VERSION:2.0
PRODID:-//WDO - ECPv6.15.14//NONSGML v1.0//EN
CALSCALE:GREGORIAN
METHOD:PUBLISH
X-WR-CALNAME:WDO
X-ORIGINAL-URL:https://wdo.org
X-WR-CALDESC:Events for WDO
REFRESH-INTERVAL;VALUE=DURATION:PT1H
X-Robots-Tag:noindex
X-PUBLISHED-TTL:PT1H
BEGIN:VTIMEZONE
TZID:Asia/Tokyo
BEGIN:STANDARD
TZOFFSETFROM:+0900
TZOFFSETTO:+0900
TZNAME:JST
DTSTART:20240101T000000
END:STANDARD
END:VTIMEZONE
BEGIN:VEVENT
DTSTART;VALUE=DATE:20250830
DTEND;VALUE=DATE:20251103
DTSTAMP:20260420T230542
CREATED:20250617T133812Z
LAST-MODIFIED:20250625T182202Z
UID:10000981-1756512000-1762127999@wdo.org
SUMMARY:2025 Gwangju Design Biennale
DESCRIPTION:2025 Gwangju Design Biennale: “You\, the World: How Design Embraces Humanity” \nOpening on August 30 and running through November 2\, 2025\, the Gwangju Design Biennale explores the theme of Inclusive Design\, examining how design recognizes and embraces diversity in our world. \nCurated by Sooshin Choi (Chair and Professor\, Savannah College of Art and Design)\, the Biennale expands on the concepts of universal and inclusive design\, highlighting design’s role in fostering a more inclusive society. \nLearn more: https://www.gdb.or.kr/intro.php \nWDO Member: Gwangju Biennale Foundation \n 
URL:https://wdo.org/event/2025-gwangju-design-biennale/
LOCATION:Gwangju\, Korea\, Republic of
CATEGORIES:Biennial
ATTACH;FMTTYPE=image/jpeg:https://wdo.org/wp-content/uploads/Gwangju_Design_Biennale-scaled-e1750875713798.jpg
END:VEVENT
END:VCALENDAR