BEGIN:VCALENDAR
VERSION:2.0
PRODID:-//WDO - ECPv6.15.14//NONSGML v1.0//EN
CALSCALE:GREGORIAN
METHOD:PUBLISH
X-WR-CALNAME:WDO
X-ORIGINAL-URL:https://wdo.org
X-WR-CALDESC:Events for WDO
REFRESH-INTERVAL;VALUE=DURATION:PT1H
X-Robots-Tag:noindex
X-PUBLISHED-TTL:PT1H
BEGIN:VTIMEZONE
TZID:America/New_York
BEGIN:DAYLIGHT
TZOFFSETFROM:-0500
TZOFFSETTO:-0400
TZNAME:EDT
DTSTART:20230312T070000
END:DAYLIGHT
BEGIN:STANDARD
TZOFFSETFROM:-0400
TZOFFSETTO:-0500
TZNAME:EST
DTSTART:20231105T060000
END:STANDARD
BEGIN:DAYLIGHT
TZOFFSETFROM:-0500
TZOFFSETTO:-0400
TZNAME:EDT
DTSTART:20240310T070000
END:DAYLIGHT
BEGIN:STANDARD
TZOFFSETFROM:-0400
TZOFFSETTO:-0500
TZNAME:EST
DTSTART:20241103T060000
END:STANDARD
BEGIN:DAYLIGHT
TZOFFSETFROM:-0500
TZOFFSETTO:-0400
TZNAME:EDT
DTSTART:20250309T070000
END:DAYLIGHT
BEGIN:STANDARD
TZOFFSETFROM:-0400
TZOFFSETTO:-0500
TZNAME:EST
DTSTART:20251102T060000
END:STANDARD
END:VTIMEZONE
BEGIN:VEVENT
DTSTART;VALUE=DATE:20241128
DTEND;VALUE=DATE:20241201
DTSTAMP:20260423T074340
CREATED:20241104T192800Z
LAST-MODIFIED:20241104T192800Z
UID:10000845-1732752000-1733011199@wdo.org
SUMMARY:Circular Cities Conference & Festival 2024
DESCRIPTION:“Circular Cities” is a conference with professionals from multi-perspective fields\, both domestic and international\, gather to discuss “circulation” as a key concept to shape future cities\, culture\, and economy. Following a trial event in the winter of 2023\, the first full-scale conference will take place in Kyoto in the fall of 2024. \nIn today’s world\, every field is undergoing redefinition\, and we believe the keyword is “circulation.” This event was initiated to bring together diverse experts to discuss and create solutions from multiple perspectives. The 2023 trial event featured sessions with architects\, thatch roof artisans\, agricultural\, fishing\, and forestry professionals\, farmers market operators\, restaurant owners\, compost advisors\, apparel brand owners\, startup founders focusing on natural burials\, and contemporary artists.
URL:https://wdo.org/event/circular-cities-conference-festival-2024/
LOCATION:Kyoto\, Kyoto\, Japan
CATEGORIES:Conference
ATTACH;FMTTYPE=image/jpeg:https://wdo.org/wp-content/uploads/circularcitiesconferencefest2024.jpg
END:VEVENT
END:VCALENDAR