BEGIN:VCALENDAR
VERSION:2.0
PRODID:-//WDO - ECPv6.15.14//NONSGML v1.0//EN
CALSCALE:GREGORIAN
METHOD:PUBLISH
X-ORIGINAL-URL:https://wdo.org
X-WR-CALDESC:Events for WDO
REFRESH-INTERVAL;VALUE=DURATION:PT1H
X-Robots-Tag:noindex
X-PUBLISHED-TTL:PT1H
BEGIN:VTIMEZONE
TZID:America/New_York
BEGIN:DAYLIGHT
TZOFFSETFROM:-0500
TZOFFSETTO:-0400
TZNAME:EDT
DTSTART:20230312T070000
END:DAYLIGHT
BEGIN:STANDARD
TZOFFSETFROM:-0400
TZOFFSETTO:-0500
TZNAME:EST
DTSTART:20231105T060000
END:STANDARD
BEGIN:DAYLIGHT
TZOFFSETFROM:-0500
TZOFFSETTO:-0400
TZNAME:EDT
DTSTART:20240310T070000
END:DAYLIGHT
BEGIN:STANDARD
TZOFFSETFROM:-0400
TZOFFSETTO:-0500
TZNAME:EST
DTSTART:20241103T060000
END:STANDARD
BEGIN:DAYLIGHT
TZOFFSETFROM:-0500
TZOFFSETTO:-0400
TZNAME:EDT
DTSTART:20250309T070000
END:DAYLIGHT
BEGIN:STANDARD
TZOFFSETFROM:-0400
TZOFFSETTO:-0500
TZNAME:EST
DTSTART:20251102T060000
END:STANDARD
END:VTIMEZONE
BEGIN:VEVENT
DTSTART;VALUE=DATE:20241205
DTEND;VALUE=DATE:20241206
DTSTAMP:20260421T154203
CREATED:20241108T141801Z
LAST-MODIFIED:20241108T141801Z
UID:10000846-1733356800-1733443199@wdo.org
SUMMARY:FORTUNE Brainstorm Design Macau
DESCRIPTION:Dive into the world of immersive experiences at Brainstorm Design 2024 in Macau\, MGM COTAI. Explore how cutting-edge technologies blend with storytelling to create captivating spectacles. Discover the latest in customer-centric design across industries\, creating meaningful products and experiences. Hear from designers\, technologists\, visionaries\, and Fortune 500 executives on how these innovations add value across entertainment\, tech\, education\, and more. \nRegister now to shape our future.
URL:https://wdo.org/event/fortune-brainstorm-design-macau/
LOCATION:MGM Cotai\, Macau\, China
CATEGORIES:Conference
ATTACH;FMTTYPE=image/png:https://wdo.org/wp-content/uploads/Social-Media-02-e1731075453134.png
END:VEVENT
END:VCALENDAR