BEGIN:VCALENDAR
VERSION:2.0
PRODID:-//WDO - ECPv6.15.14//NONSGML v1.0//EN
CALSCALE:GREGORIAN
METHOD:PUBLISH
X-ORIGINAL-URL:https://wdo.org
X-WR-CALDESC:Events for WDO
REFRESH-INTERVAL;VALUE=DURATION:PT1H
X-Robots-Tag:noindex
X-PUBLISHED-TTL:PT1H
BEGIN:VTIMEZONE
TZID:Europe/Dublin
BEGIN:DAYLIGHT
TZOFFSETFROM:+0000
TZOFFSETTO:+0100
TZNAME:IST
DTSTART:20240331T010000
END:DAYLIGHT
BEGIN:STANDARD
TZOFFSETFROM:+0100
TZOFFSETTO:+0000
TZNAME:GMT
DTSTART:20241027T010000
END:STANDARD
BEGIN:DAYLIGHT
TZOFFSETFROM:+0000
TZOFFSETTO:+0100
TZNAME:IST
DTSTART:20250330T010000
END:DAYLIGHT
BEGIN:STANDARD
TZOFFSETFROM:+0100
TZOFFSETTO:+0000
TZNAME:GMT
DTSTART:20251026T010000
END:STANDARD
BEGIN:DAYLIGHT
TZOFFSETFROM:+0000
TZOFFSETTO:+0100
TZNAME:IST
DTSTART:20260329T010000
END:DAYLIGHT
BEGIN:STANDARD
TZOFFSETFROM:+0100
TZOFFSETTO:+0000
TZNAME:GMT
DTSTART:20261025T010000
END:STANDARD
END:VTIMEZONE
BEGIN:VEVENT
DTSTART;VALUE=DATE:20251117
DTEND;VALUE=DATE:20251122
DTSTAMP:20260422T162613
CREATED:20251029T141106Z
LAST-MODIFIED:20251029T141106Z
UID:10001022-1763337600-1763769599@wdo.org
SUMMARY:Irish Design Week 2025
DESCRIPTION:Join 100 Archive for\, ‘Designing Together: Prototyping Better Futures’\, a special event during Irish Design Week 2025 exploring how design can shape collaborative and hopeful futures. \n\n\n\n\nBringing together emerging voices from visual communications design\, policy-making\, and systems change\, the evening will highlight inspiring projects and initiatives where design acts as a tool for connection\, innovation and impact. \n100 Archive is delighted to host Brett O’Mahony (Studio Saol\, Ireland) and Johanna Fabrin (21st Europe\, Denmark)\, both of whom are actively using and advocating for design to co-create new ways of thinking\, working and living. Whether you’re a designer\, policymaker\, community organiser\, student or simply curious about how design influences our everyday\, you’re warmly invited to join this event. \nLearn more: https://www.dcci.ie/whats-on/irish-design-week-2025/
URL:https://wdo.org/event/irish-design-week-2025/
LOCATION:Nationwide\, Ireland
CATEGORIES:Design week
ATTACH;FMTTYPE=image/jpeg:https://wdo.org/wp-content/uploads/irishdesignweek.jpg
END:VEVENT
END:VCALENDAR