BEGIN:VCALENDAR
VERSION:2.0
PRODID:-//WDO - ECPv6.15.14//NONSGML v1.0//EN
CALSCALE:GREGORIAN
METHOD:PUBLISH
X-WR-CALNAME:WDO
X-ORIGINAL-URL:https://wdo.org
X-WR-CALDESC:Events for WDO
REFRESH-INTERVAL;VALUE=DURATION:PT1H
X-Robots-Tag:noindex
X-PUBLISHED-TTL:PT1H
BEGIN:VTIMEZONE
TZID:America/New_York
BEGIN:DAYLIGHT
TZOFFSETFROM:-0500
TZOFFSETTO:-0400
TZNAME:EDT
DTSTART:20230312T070000
END:DAYLIGHT
BEGIN:STANDARD
TZOFFSETFROM:-0400
TZOFFSETTO:-0500
TZNAME:EST
DTSTART:20231105T060000
END:STANDARD
BEGIN:DAYLIGHT
TZOFFSETFROM:-0500
TZOFFSETTO:-0400
TZNAME:EDT
DTSTART:20240310T070000
END:DAYLIGHT
BEGIN:STANDARD
TZOFFSETFROM:-0400
TZOFFSETTO:-0500
TZNAME:EST
DTSTART:20241103T060000
END:STANDARD
BEGIN:DAYLIGHT
TZOFFSETFROM:-0500
TZOFFSETTO:-0400
TZNAME:EDT
DTSTART:20250309T070000
END:DAYLIGHT
BEGIN:STANDARD
TZOFFSETFROM:-0400
TZOFFSETTO:-0500
TZNAME:EST
DTSTART:20251102T060000
END:STANDARD
END:VTIMEZONE
BEGIN:VEVENT
DTSTART;VALUE=DATE:20240215
DTEND;VALUE=DATE:20240226
DTSTAMP:20260422T153340
CREATED:20240126T143702Z
LAST-MODIFIED:20240126T143702Z
UID:10000678-1707955200-1708905599@wdo.org
SUMMARY:Palm Springs Modernism Week
DESCRIPTION:Modernism Week returns to Palm Springs for its 19th year\, offering over 350 events across the desert enclave\, including house tours\, parties and the Palm Springs Modernism Show. This year’s 11-day programme spotlights the work of seminal architect Albert Frey and launches the inaugural Restoration Series of home tours\, starting with E. Stewart Williams’ 1958 marvel Sutter House and James McNaughton’s Hollywood regency-style Villa Sierra aka the ‘Pink Door House’.
URL:https://wdo.org/event/palm-springs-modernism-week/
LOCATION:Palm Springs\, Palm Springs\, CA\, United States
CATEGORIES:Design week
ATTACH;FMTTYPE=image/jpeg:https://wdo.org/wp-content/uploads/Villa-Sierra-Palm-Springs-Natural-Retreats-4-e1706279813952.jpg
END:VEVENT
END:VCALENDAR