BEGIN:VCALENDAR
VERSION:2.0
PRODID:-//WDO - ECPv6.15.14//NONSGML v1.0//EN
CALSCALE:GREGORIAN
METHOD:PUBLISH
X-WR-CALNAME:WDO
X-ORIGINAL-URL:https://wdo.org
X-WR-CALDESC:Events for WDO
REFRESH-INTERVAL;VALUE=DURATION:PT1H
X-Robots-Tag:noindex
X-PUBLISHED-TTL:PT1H
BEGIN:VTIMEZONE
TZID:America/New_York
BEGIN:DAYLIGHT
TZOFFSETFROM:-0500
TZOFFSETTO:-0400
TZNAME:EDT
DTSTART:20230312T070000
END:DAYLIGHT
BEGIN:STANDARD
TZOFFSETFROM:-0400
TZOFFSETTO:-0500
TZNAME:EST
DTSTART:20231105T060000
END:STANDARD
BEGIN:DAYLIGHT
TZOFFSETFROM:-0500
TZOFFSETTO:-0400
TZNAME:EDT
DTSTART:20240310T070000
END:DAYLIGHT
BEGIN:STANDARD
TZOFFSETFROM:-0400
TZOFFSETTO:-0500
TZNAME:EST
DTSTART:20241103T060000
END:STANDARD
BEGIN:DAYLIGHT
TZOFFSETFROM:-0500
TZOFFSETTO:-0400
TZNAME:EDT
DTSTART:20250309T070000
END:DAYLIGHT
BEGIN:STANDARD
TZOFFSETFROM:-0400
TZOFFSETTO:-0500
TZNAME:EST
DTSTART:20251102T060000
END:STANDARD
END:VTIMEZONE
BEGIN:VEVENT
DTSTART;VALUE=DATE:20240521
DTEND;VALUE=DATE:20240604
DTSTAMP:20260423T164639
CREATED:20240527T192045Z
LAST-MODIFIED:20240527T192045Z
UID:10000760-1716249600-1717459199@wdo.org
SUMMARY:ReMakeRS: Emergency Design Challenge 2024
DESCRIPTION:Due to the recent floods in Brazil\, many families have lost their homes and essential furniture. ReMakeRS aims to recreate or renew lost furniture\, providing a new beginning for affected families. The challenge is to develop low-cost\, easy-to-replicate\, manufacture\, and assemble furniture projects. All projects will be open-source\, available for anyone to produce and help flood victims in Brazil.\n \nRegistration and project submission: May 21 to June 3\, 2024. \nRegister: www.remakers2024.com
URL:https://wdo.org/event/remakers-emergency-design-challenge-2024/
LOCATION:Porto Alegre\, Brazil
CATEGORIES:Call for entries
ATTACH;FMTTYPE=image/jpeg:https://wdo.org/wp-content/uploads/Post.jpeg
END:VEVENT
END:VCALENDAR