BEGIN:VCALENDAR
VERSION:2.0
PRODID:-//WDO - ECPv6.15.14//NONSGML v1.0//EN
CALSCALE:GREGORIAN
METHOD:PUBLISH
X-WR-CALNAME:WDO
X-ORIGINAL-URL:https://wdo.org
X-WR-CALDESC:Events for WDO
REFRESH-INTERVAL;VALUE=DURATION:PT1H
X-Robots-Tag:noindex
X-PUBLISHED-TTL:PT1H
BEGIN:VTIMEZONE
TZID:Atlantic/Reykjavik
BEGIN:STANDARD
TZOFFSETFROM:+0000
TZOFFSETTO:+0000
TZNAME:GMT
DTSTART:20240101T000000
END:STANDARD
END:VTIMEZONE
BEGIN:VEVENT
DTSTART;VALUE=DATE:20250404
DTEND;VALUE=DATE:20250407
DTSTAMP:20260421T054400
CREATED:20250117T215839Z
LAST-MODIFIED:20250117T215839Z
UID:10000886-1743724800-1743983999@wdo.org
SUMMARY:Design March
DESCRIPTION:Iceland’s annual design festival that transforms the most northerly capital of the world into one big venue for design.  \nJoin us in Reykjavík and explore the Icelandic design scene! \nFrom fashion to furniture\, architecture to the environment\, food to product design\, digital design to innovation\, the festival showcases the best of the local design scene alongside exciting international names. With over 100 events and exhibitions spread over the capital area for five days the festival gives a great insight into the thriving and fresh design scene. \nThe festival has been held annually since 2009 and will be held 2nd – 6th of april 2025!
URL:https://wdo.org/event/design-march/
LOCATION:Reykjavik (Iceland)\, Reykjavik\, Iceland
CATEGORIES:Design week
ATTACH;FMTTYPE=image/jpeg:https://wdo.org/wp-content/uploads/designmarch2025-e1737151107692.jpg
END:VEVENT
END:VCALENDAR