BEGIN:VCALENDAR
VERSION:2.0
PRODID:-//WDO - ECPv6.15.14//NONSGML v1.0//EN
CALSCALE:GREGORIAN
METHOD:PUBLISH
X-WR-CALNAME:WDO
X-ORIGINAL-URL:https://wdo.org
X-WR-CALDESC:Events for WDO
REFRESH-INTERVAL;VALUE=DURATION:PT1H
X-Robots-Tag:noindex
X-PUBLISHED-TTL:PT1H
BEGIN:VTIMEZONE
TZID:America/New_York
BEGIN:DAYLIGHT
TZOFFSETFROM:-0500
TZOFFSETTO:-0400
TZNAME:EDT
DTSTART:20220313T070000
END:DAYLIGHT
BEGIN:STANDARD
TZOFFSETFROM:-0400
TZOFFSETTO:-0500
TZNAME:EST
DTSTART:20221106T060000
END:STANDARD
BEGIN:DAYLIGHT
TZOFFSETFROM:-0500
TZOFFSETTO:-0400
TZNAME:EDT
DTSTART:20230312T070000
END:DAYLIGHT
BEGIN:STANDARD
TZOFFSETFROM:-0400
TZOFFSETTO:-0500
TZNAME:EST
DTSTART:20231105T060000
END:STANDARD
BEGIN:DAYLIGHT
TZOFFSETFROM:-0500
TZOFFSETTO:-0400
TZNAME:EDT
DTSTART:20240310T070000
END:DAYLIGHT
BEGIN:STANDARD
TZOFFSETFROM:-0400
TZOFFSETTO:-0500
TZNAME:EST
DTSTART:20241103T060000
END:STANDARD
END:VTIMEZONE
BEGIN:VEVENT
DTSTART;VALUE=DATE:20230711
DTEND;VALUE=DATE:20230715
DTSTAMP:20260422T141911
CREATED:20230710T212749Z
LAST-MODIFIED:20230710T212749Z
UID:10000592-1689033600-1689379199@wdo.org
SUMMARY:ServDes
DESCRIPTION:ServDes\, the Service Design and Innovation conference\, is the premier research conference for exchanging knowledge within Service Design and service innovation studies. Born as a yearly Nordic conference\, ServDes has now become a bi-annual international event with the aim of bringing researchers and practitioners together to discuss\, share and evolve the emerging discipline of Service Design\, and design-related service innovation.
URL:https://wdo.org/event/servdes/
LOCATION:Rio de Janeiro (Brazil)\, Rio de Janeiro\, Brazil
CATEGORIES:Conference
ATTACH;FMTTYPE=image/png:https://wdo.org/wp-content/uploads/ServDes-2023_home-tipo-1536x934-1.png
END:VEVENT
END:VCALENDAR