BEGIN:VCALENDAR
VERSION:2.0
PRODID:-//WDO - ECPv6.15.14//NONSGML v1.0//EN
CALSCALE:GREGORIAN
METHOD:PUBLISH
X-ORIGINAL-URL:https://wdo.org
X-WR-CALDESC:Events for WDO
REFRESH-INTERVAL;VALUE=DURATION:PT1H
X-Robots-Tag:noindex
X-PUBLISHED-TTL:PT1H
BEGIN:VTIMEZONE
TZID:America/New_York
BEGIN:DAYLIGHT
TZOFFSETFROM:-0500
TZOFFSETTO:-0400
TZNAME:EDT
DTSTART:20220313T070000
END:DAYLIGHT
BEGIN:STANDARD
TZOFFSETFROM:-0400
TZOFFSETTO:-0500
TZNAME:EST
DTSTART:20221106T060000
END:STANDARD
BEGIN:DAYLIGHT
TZOFFSETFROM:-0500
TZOFFSETTO:-0400
TZNAME:EDT
DTSTART:20230312T070000
END:DAYLIGHT
BEGIN:STANDARD
TZOFFSETFROM:-0400
TZOFFSETTO:-0500
TZNAME:EST
DTSTART:20231105T060000
END:STANDARD
BEGIN:DAYLIGHT
TZOFFSETFROM:-0500
TZOFFSETTO:-0400
TZNAME:EDT
DTSTART:20240310T070000
END:DAYLIGHT
BEGIN:STANDARD
TZOFFSETFROM:-0400
TZOFFSETTO:-0500
TZNAME:EST
DTSTART:20241103T060000
END:STANDARD
END:VTIMEZONE
BEGIN:VEVENT
DTSTART;VALUE=DATE:20230601
DTEND;VALUE=DATE:20231116
DTSTAMP:20260423T054431
CREATED:20230714T184020Z
LAST-MODIFIED:20230714T184020Z
UID:10000595-1685577600-1700092799@wdo.org
SUMMARY:25TH INTERNATIONAL BICYCLE DESIGN COMPETITION (IBDC)
DESCRIPTION:The 25th International Bicycle Design Competition (IBDC) is now open for entries. \nThis year’s theme is “Intelligence. Sustainability. Cool Lifestyle”. We invite entrants to design entries with intelligent technologies\, sustainable considerations\, and ideas that shows personal new lifestyles. \nThe competition benefits includes winning NT$200\,000 (Gold Award)\, cooperating with bicycle companies\, and exposing at Taipei International Cycle Show.
URL:https://wdo.org/event/25th-international-bicycle-design-competition-ibdc/
LOCATION:Taichun\, Taiwan
CATEGORIES:Competition
ATTACH;FMTTYPE=image/jpeg:https://wdo.org/wp-content/uploads/IBDC-Image_855x480px-e1689359982973.jpg
END:VEVENT
END:VCALENDAR