BEGIN:VCALENDAR
VERSION:2.0
PRODID:-//WDO - ECPv6.15.14//NONSGML v1.0//EN
CALSCALE:GREGORIAN
METHOD:PUBLISH
X-WR-CALNAME:WDO
X-ORIGINAL-URL:https://wdo.org
X-WR-CALDESC:Events for WDO
REFRESH-INTERVAL;VALUE=DURATION:PT1H
X-Robots-Tag:noindex
X-PUBLISHED-TTL:PT1H
BEGIN:VTIMEZONE
TZID:America/New_York
BEGIN:DAYLIGHT
TZOFFSETFROM:-0500
TZOFFSETTO:-0400
TZNAME:EDT
DTSTART:20230312T070000
END:DAYLIGHT
BEGIN:STANDARD
TZOFFSETFROM:-0400
TZOFFSETTO:-0500
TZNAME:EST
DTSTART:20231105T060000
END:STANDARD
BEGIN:DAYLIGHT
TZOFFSETFROM:-0500
TZOFFSETTO:-0400
TZNAME:EDT
DTSTART:20240310T070000
END:DAYLIGHT
BEGIN:STANDARD
TZOFFSETFROM:-0400
TZOFFSETTO:-0500
TZNAME:EST
DTSTART:20241103T060000
END:STANDARD
BEGIN:DAYLIGHT
TZOFFSETFROM:-0500
TZOFFSETTO:-0400
TZNAME:EDT
DTSTART:20250309T070000
END:DAYLIGHT
BEGIN:STANDARD
TZOFFSETFROM:-0400
TZOFFSETTO:-0500
TZNAME:EST
DTSTART:20251102T060000
END:STANDARD
END:VTIMEZONE
BEGIN:VTIMEZONE
TZID:Asia/Taipei
BEGIN:STANDARD
TZOFFSETFROM:+0800
TZOFFSETTO:+0800
TZNAME:CST
DTSTART:20230101T000000
END:STANDARD
END:VTIMEZONE
BEGIN:VEVENT
DTSTART;VALUE=DATE:20241207
DTEND;VALUE=DATE:20241210
DTSTAMP:20260421T111413
CREATED:20240903T202613Z
LAST-MODIFIED:20240903T202658Z
UID:10000817-1733529600-1733788799@wdo.org
SUMMARY:International Conference for Asia Digital Art and Design 2024
DESCRIPTION:The 2024 ADADA Conference will be held at National Cheng Kung University in Tainan\, Taiwan. We eagerly look forward to your submissions and participation in this vibrant event. \nThe International Conference for ADADA is one of the major conferences about art and design associated with digital technologies. The conference aims to bring together researchers\, designers\, artists\, and students to present novel works\, exchange innovative ideas\, and discuss the future of digital art and design in Asia. \nAuthors are invited to submit original\, unpublished research work and art papers and work in progress on all topics in the general areas of art and design associated with digital technologies. \nPapers\, Posters and Demos \n\n16 September 2024 : Abstract Submission Deadline\n23 September 2024 : Submission Deadline of Papers\, Posters\, and Demos\n28 October 2024 : Acceptance Notification\n11 November 2024 : Camera-Ready Submission Deadline\n7-9 December 2024 : Conference Dates\n\nWork in Progress \n\n31 October 2024 : Registration Deadline for “Work-in-Progress” (Not Peer-reviewed)\n7-9 December 2024 : Conference Dates
URL:https://wdo.org/event/international-conference-for-asia-digital-art-and-design-2024/
LOCATION:Tainan\, Tainan\, Taiwan
CATEGORIES:Call for entries,Conference
ATTACH;FMTTYPE=image/png:https://wdo.org/wp-content/uploads/Screenshot-2024-09-03-at-4.06.28 PM-e1725395131832.png
END:VEVENT
BEGIN:VEVENT
DTSTART;VALUE=DATE:20241026
DTEND;VALUE=DATE:20241111
DTSTAMP:20260421T111413
CREATED:20241202T145803Z
LAST-MODIFIED:20241202T145803Z
UID:10000858-1729900800-1731283199@wdo.org
SUMMARY:2024 Taiwan Design Expo
DESCRIPTION:The 2024 Taiwan Design Expo returned to Tainan for the fifth time\, drawing over 4.2 million visitors over its 16-day exhibition! Under the theme “The Next 400” and celebrating Tainan’s 400th anniversary\, the Expo showcased the city’s historical culture\, local lifestyles\, manufacturing and emerging industries\, circular design\, future urban planning\, and revitalized heritage sites.\n \nWDO Member: Taiwan Design Research Institute
URL:https://wdo.org/event/2024-taiwan-design-expo/
LOCATION:Tainan\, Tainan\, Taiwan
CATEGORIES:Design week,Exhibition
ATTACH;FMTTYPE=image/jpeg:https://wdo.org/wp-content/uploads/465814366_1121569845993146_3406849092507966016_n-e1733151445701.jpg
END:VEVENT
END:VCALENDAR