BEGIN:VCALENDAR
VERSION:2.0
PRODID:-//WDO - ECPv6.15.14//NONSGML v1.0//EN
CALSCALE:GREGORIAN
METHOD:PUBLISH
X-ORIGINAL-URL:https://wdo.org
X-WR-CALDESC:Events for WDO
REFRESH-INTERVAL;VALUE=DURATION:PT1H
X-Robots-Tag:noindex
X-PUBLISHED-TTL:PT1H
BEGIN:VTIMEZONE
TZID:Europe/Paris
BEGIN:DAYLIGHT
TZOFFSETFROM:+0100
TZOFFSETTO:+0200
TZNAME:CEST
DTSTART:20240331T010000
END:DAYLIGHT
BEGIN:STANDARD
TZOFFSETFROM:+0200
TZOFFSETTO:+0100
TZNAME:CET
DTSTART:20241027T010000
END:STANDARD
BEGIN:DAYLIGHT
TZOFFSETFROM:+0100
TZOFFSETTO:+0200
TZNAME:CEST
DTSTART:20250330T010000
END:DAYLIGHT
BEGIN:STANDARD
TZOFFSETFROM:+0200
TZOFFSETTO:+0100
TZNAME:CET
DTSTART:20251026T010000
END:STANDARD
BEGIN:DAYLIGHT
TZOFFSETFROM:+0100
TZOFFSETTO:+0200
TZNAME:CEST
DTSTART:20260329T010000
END:DAYLIGHT
BEGIN:STANDARD
TZOFFSETFROM:+0200
TZOFFSETTO:+0100
TZNAME:CET
DTSTART:20261025T010000
END:STANDARD
BEGIN:DAYLIGHT
TZOFFSETFROM:+0100
TZOFFSETTO:+0200
TZNAME:CEST
DTSTART:20270328T010000
END:DAYLIGHT
BEGIN:STANDARD
TZOFFSETFROM:+0200
TZOFFSETTO:+0100
TZNAME:CET
DTSTART:20271031T010000
END:STANDARD
END:VTIMEZONE
BEGIN:VEVENT
DTSTART;VALUE=DATE:20251118
DTEND;VALUE=DATE:20260411
DTSTAMP:20260422T172327
CREATED:20251124T022708Z
LAST-MODIFIED:20251124T022814Z
UID:10001031-1763424000-1775865599@wdo.org
SUMMARY:International Biennial Poster Design Terras Gauda 2026
DESCRIPTION:The International Biennial Poster Design Terras Gauda celebrates its 25th anniversary\, firmly established as a key event in the global poster design calendar. Since 2001\, it has gathered more than 21\,000 posters from 100 countries across the five continents. \nTerras Gauda Winery will award €16\,000 in prizes (€10\,000 for the winner and three Honorable Mentions worth €2\,000 each)\, and will bring together all participating posters in a one-month public exhibition. \nLearn more: https://franciscomantecon.com/2026/
URL:https://wdo.org/event/international-biennial-poster-design-terras-gauda-2026/
LOCATION:Vigo\, Spain
CATEGORIES:Call for entries,Competition
ATTACH;FMTTYPE=image/jpeg:https://wdo.org/wp-content/uploads/POSTER-BIENNIAL-e1763951201880.jpg
END:VEVENT
END:VCALENDAR